BEGIN:VCALENDAR
VERSION:2.0
PRODID:-//ChamberMaster//Event Calendar 2.0//EN
METHOD:PUBLISH
X-PUBLISHED-TTL:P3D
REFRESH-INTERVAL:P3D
CALSCALE:GREGORIAN
BEGIN:VEVENT
DTSTART:20170430T020000Z
DTEND:20170430T050000Z
X-MICROSOFT-CDO-ALLDAYEVENT:FALSE
SUMMARY:Rural Health Rocks
DESCRIPTION:On Saturday April 29th\, Grammy award winner Michael McDonald and friends at Cotton Auditorium\, 500 N Harold Street in Fort Bragg. Joining Michael on stage will be Grammy nominee singer/songwriter Amy Holland\, Nashville musician Gary Cirimelli\, as well as local luminaries Gene Parsons & David Hayes\, acoustic guitarist Alex de Grassi\, and singer/songwriter and sax player John Mattern. All proceeds from this star-studded\, rockin' event will go towards establishing the first ever Family Medicine Residency program for Mendocino and Lake counties. Tickets are on sale at www.ruralhealthrocks.com.
X-ALT-DESC;FMTTYPE=text/html:On Saturday April 29th\, Grammy award winner Michael McDonald and friends at Cotton Auditorium\, 500 N Harold Street in Fort Bragg. Joining Michael on stage will be Grammy nominee singer/songwriter Amy Holland\, Nashville musician Gary Cirimelli\, as well as local luminaries Gene Parsons &amp\; David Hayes\, acoustic guitarist Alex de Grassi\, and singer/songwriter and sax player John Mattern. All proceeds from this star-studded\, rockin&rsquo\; event will go towards establishing the first ever Family Medicine Residency program for Mendocino and Lake counties. Tickets are on sale at www.ruralhealthrocks.com.
LOCATION:Cotton Auditorium 500 N Harold Street Fort Bragg\, CA Ukiah
UID:e.2883.1114
SEQUENCE:3
DTSTAMP:20260424T061006Z
URL:http://mendocinocoast.smartcms.site/events/details/rural-health-rocks-04-29-2017-1114
END:VEVENT

END:VCALENDAR
