BEGIN:VCALENDAR
VERSION:2.0
PRODID:-//ChamberMaster//Event Calendar 2.0//EN
METHOD:PUBLISH
X-PUBLISHED-TTL:P3D
REFRESH-INTERVAL:P3D
CALSCALE:GREGORIAN
BEGIN:VEVENT
DTSTART:20190601T020000Z
DTEND:20190601T043000Z
X-MICROSOFT-CDO-ALLDAYEVENT:FALSE
SUMMARY:Rothstein Experiment at The Sequoia Room
DESCRIPTION:Rothstein Experiment\n\nFriday\, May 31\n\nOne dinner show at 7:30 pm with two   45 minute sets and an intermission\n\nDoors at 6:15 pm\n\nNew Standards: Expanding the Jazz Songbook\n\nexploring modern and ancient themes in the present tense.  An evening of songs and conversation\, offering a behind the scenes look into the process of a working jazz ensemble.\n\nJill Rothstein   vocals\; Matt Rothstein  saxophone\, vocals\; Tom Aiken   piano\, keyboard\, melodica\; Jacob Turner   guitar\; Pierre Archain   upright bass\; Gabriel Ya ez   percussion.\n\nLeaders of the Rothstein Experiment\, Matt and Jill Rothstein\, are accomplished musicians\, arrangers\, and composers. Both were raised in rural Lake County\, and the pair have been leading musical ensembles and music programs all over Northern California\, for more than a decade.
X-ALT-DESC;FMTTYPE=text/html:<h1 style="text-align:center">Rothstein Experiment</h1>\n\n<h4 style="text-align:center">Friday\, May 31</h4>\n\n<h5 style="text-align:center">One dinner show at 7:30 pm with two &ndash\; 45 minute sets and an intermission<br />\nDoors at 6:15 pm</h5>\n\n<p style="text-align:center"><strong>New Standards: Expanding the Jazz Songbook</strong><br />\nexploring modern and ancient themes in the present tense.&nbsp\;&nbsp\;An evening of songs and conversation\, offering a behind the scenes look into the process of a working jazz ensemble.</p>\n\n<p style="text-align:center"><strong>Jill Rothstein &ndash\;&nbsp\;</strong>vocals\;&nbsp\;<strong>Matt Rothstein &ndash\;</strong>saxophone\, vocals\;&nbsp\;<strong>Tom Aiken &ndash\;&nbsp\;</strong>piano\, keyboard\, melodica\;&nbsp\;<strong>Jacob Turner &ndash\;&nbsp\;</strong>guitar\;&nbsp\;<strong>Pierre Archain &ndash\;&nbsp\;</strong>upright bass\;&nbsp\;<strong>Gabriel Ya&ntilde\;ez &ndash\;</strong>&nbsp\;percussion.</p>\n\n<p style="text-align:center">Leaders of the Rothstein Experiment\, Matt and Jill Rothstein\, are accomplished musicians\, arrangers\, and composers. Both were raised in rural Lake County\, and the pair have been leading musical ensembles and music programs all over Northern California\, for more than a decade.</p>\n
LOCATION:Sequoia Room 444 North Main Street Fort Bragg\, CA 95437 United States + Google Map Phone: 707-964-3400
UID:e.2883.11674
SEQUENCE:3
DTSTAMP:20260422T111144Z
URL:http://mendocinocoast.smartcms.site/events/details/rothstein-experiment-at-the-sequoia-room-11674
END:VEVENT

END:VCALENDAR
