BEGIN:VCALENDAR
VERSION:2.0
PRODID:-//ChamberMaster//Event Calendar 2.0//EN
METHOD:PUBLISH
X-PUBLISHED-TTL:P3D
REFRESH-INTERVAL:P3D
CALSCALE:GREGORIAN
BEGIN:VEVENT
DTSTART:20180217T180000Z
DTEND:20180217T200000Z
X-MICROSOFT-CDO-ALLDAYEVENT:FALSE
SUMMARY:Rose Revival Workshop
DESCRIPTION:Bring new life to your rose garden with a hard winter snip and clip! Join MCBG Gardener Mishele Stettenbenz for a hands-on training and learn basic techniques for pruning and shaping roses and other ornamental shrubs. Discover a variety of methods as Mishele discusses different types of roses and demonstrate how to prune each. Bring your leather gloves and a pair of pruners. This workshop is limited to 20 participants. A waitlist will be kept. If there is a cancellation by 4:00pm on the Friday before the class\, people on the waitlist will be contacted by store staff of the opening.
X-ALT-DESC;FMTTYPE=text/html:Bring new life to your rose garden with a hard winter snip and clip! Join MCBG Gardener Mishele Stettenbenz for a hands-on training and learn basic techniques for pruning and shaping roses and other ornamental shrubs. Discover a variety of methods as Mishele discusses different types of roses and demonstrate how to prune each. Bring your leather gloves and a pair of pruners. This workshop is limited to 20 participants. A waitlist will be kept. If there is a cancellation by 4:00pm on the Friday before the class\, people on the waitlist will be contacted by store staff of the opening.
LOCATION:Mendocino Coast Botanical Gardens 18220 N Highway 1\, Fort Bragg\, California 95437
UID:e.2883.5524
SEQUENCE:3
DTSTAMP:20260423T121821Z
URL:http://mendocinocoast.smartcms.site/events/details/rose-revival-workshop-5524
END:VEVENT

END:VCALENDAR
