BEGIN:VCALENDAR
VERSION:2.0
PRODID:-//ChamberMaster//Event Calendar 2.0//EN
METHOD:PUBLISH
X-PUBLISHED-TTL:P3D
REFRESH-INTERVAL:P3D
CALSCALE:GREGORIAN
BEGIN:VEVENT
DTSTART:20191207T200000Z
DTEND:20191208T010000Z
X-MICROSOFT-CDO-ALLDAYEVENT:FALSE
SUMMARY:Roots of Motive Power Holiday Express - Extended Museum Hours & Free Admission
DESCRIPTION:Roots of Motive Power will be hosting its annual Holiday Express event at the Roots of Motive Power Yard and Engine House (next door to the Museum) on December 7\, 2019 from 12 p.m.   5 p.m. In conjunction the Mendocino County Museum will have extended hours on Saturday\, December 7\, 2019 from 12 p.m.   5 p.m.\, offer FREE Admission\, and invite the public to participate in a FREE holiday themed craft while supplies last. This FREE family event includes free train rides\, a chance to meet Santa and receive a free small gift\, a wagon full of toys raffle\, refreshments of cookies and hot chocolate\, festive decorations and more! To learn more about Roots of Motive Power and their annual Holiday Express event please visit their website: https://rootsofmotivepower.com In conjunction with the festivities hosted by Roots of Motive Power\, the public is invited to stop by the Museum and enjoy FREE admission and participate in a FREE holiday themed craft\, while supplies last. Visitors can also view the newly opened exhibit\, Natural Expressions: Art Inspired by Mendocino County\, which features artwork showcasing the beauty and diversity of Mendocino County's landscapes and resources.
X-ALT-DESC;FMTTYPE=text/html:Roots of Motive Power will be hosting its annual Holiday Express event at the Roots of Motive Power Yard and Engine House (next door to the Museum) on December 7\, 2019 from 12 p.m. &ndash\; 5 p.m. In conjunction the Mendocino County Museum will have extended hours on Saturday\, December 7\, 2019 from 12 p.m. &ndash\; 5 p.m.\, offer FREE Admission\, and invite the public to participate in a FREE holiday themed craft while supplies last. This FREE family event includes free train rides\, a chance to meet Santa and receive a free small gift\, a wagon full of toys raffle\, refreshments of cookies and hot chocolate\, festive decorations and more! To learn more about Roots of Motive Power and their annual Holiday Express event please visit their website: https://rootsofmotivepower.com In conjunction with the festivities hosted by Roots of Motive Power\, the public is invited to stop by the Museum and enjoy FREE admission and participate in a FREE holiday themed craft\, while supplies last. Visitors can also view the newly opened exhibit\, Natural Expressions: Art Inspired by Mendocino County\, which features artwork showcasing the beauty and diversity of Mendocino County&rsquo\;s landscapes and resources.
LOCATION:Mendocino County Museum 400 E. Commercial St. Willits\, Ca 95490
UID:e.2883.12577
SEQUENCE:3
DTSTAMP:20260421T235048Z
URL:http://mendocinocoast.smartcms.site/events/details/roots-of-motive-power-holiday-express-extended-museum-hours-free-admission-12577
END:VEVENT

END:VCALENDAR
