BEGIN:VCALENDAR
VERSION:2.0
PRODID:-//ChamberMaster//Event Calendar 2.0//EN
METHOD:PUBLISH
X-PUBLISHED-TTL:P3D
REFRESH-INTERVAL:P3D
CALSCALE:GREGORIAN
BEGIN:VEVENT
DTSTART;VALUE=DATE:20170418
DTEND;VALUE=DATE:20170419
TRANSP:TRANSPARENT
X-MICROSOFT-CDO-ALLDAYEVENT:TRUE
SUMMARY:Richard Weissâ€™ â€œThe Book â€“ They Came from Inner Spaceâ€ Film Screening
DESCRIPTION:Richard Weissâ€™ full-length movie\, The Book: They Came from Inner Space\, is a kitsch science fiction feature film (Invasion of the Body Snatchers meets Flash Gordon) that pays homage to the sci-fi classics of the â€˜70s and â€˜80s. As an official selection of festivals in America\, Australia\, and Asia\, The Book won an impressive 13 awards in 2011 and 2012\, including Best of Show at the Los Angeles Movie Awards. Free screening.Â The Mendocino Art Center presents the artwork of Richard Weiss\, April 27 through May 28\, in the Main Gallery.
X-ALT-DESC;FMTTYPE=text/html:<p>Richard Weissâ€™ full-length movie\, The Book: They Came from Inner Space\, is a kitsch science fiction feature film (Invasion of the Body Snatchers meets Flash Gordon) that pays homage to the sci-fi classics of the â€˜70s and â€˜80s. As an official selection of festivals in America\, Australia\, and Asia\, The Book won an impressive 13 awards in 2011 and 2012\, including Best of Show at the Los Angeles Movie Awards. Free screening.</p><p>Â </p><p>The Mendocino Art Center presents the artwork of Richard Weiss\, April 27 through May 28\, in the Main Gallery.</p>
LOCATION:Mendocino Art Center
UID:e.2883.1189
SEQUENCE:3
DTSTAMP:20260424T061153Z
URL:http://mendocinocoast.smartcms.site/events/details/richard-weiss&#226;-&#226;-œthe-book-&#226;-they-came-from-inner-space&#226;-film-screening-04-18-2017-1189
END:VEVENT

END:VCALENDAR
