BEGIN:VCALENDAR
VERSION:2.0
PRODID:-//ChamberMaster//Event Calendar 2.0//EN
METHOD:PUBLISH
X-PUBLISHED-TTL:P3D
REFRESH-INTERVAL:P3D
CALSCALE:GREGORIAN
BEGIN:VEVENT
DTSTART:20170116T103000Z
DTEND:20170116T110000Z
X-MICROSOFT-CDO-ALLDAYEVENT:FALSE
SUMMARY:Rhododendron Walks
DESCRIPTION:This spring\, Rhododendron Walks will be held the second Saturday of each month\; upcoming dates include:Â March 11\, April 8\, and May 13. Learn about the Rhododendron Collection here at the Gardens\, in this monthly walk and talk with local expert and current president of the American Rhododendron Society's Noyo Chapter\, Dennis McKiver. Dennis has been growing and collecting rhododendrons since 2001. His collection includes more than 1\,000 hybrid and species rhododendrons. \nÂ Schedule Details: The 2nd Saturday of each month at 1:30pm | Upcoming Walks: March 11\, April 8\, and May 13Location: Meet at 1:30pm on the Plaza at Mendocino Coast Botanical GardensPayment Information: Rhododendron Walks are FREE with Gardens admission!
X-ALT-DESC;FMTTYPE=text/html:<p><span style="font-size:medium\;">This spring\,<em> </em>Rhododendron Walks will be held the second Saturday of each month\; upcoming dates include:Â <strong>March 11\, April 8\, and May 13</strong>. </span></p><p><span style="font-size:medium\;">Learn about the </span><a style="font-size:medium\;" href="http://www.gardenbythesea.org/mcbg-plant-collections/rhododendron-collection/">Rhododendron Collection</a><span style="font-size:medium\;"> here at the Gardens\, in this monthly walk and talk with local expert and current president of the </span><a style="font-size:medium\;" href="http://www.noyochapterars.com/" target="_blank">American Rhododendron Society's Noyo Chapter\,</a><span style="font-size:medium\;"> Dennis McKiver. Dennis has been growing and collecting rhododendrons since 2001. His collection includes more than 1\,000 hybrid and species rhododendrons.</span></p><p><span style="font-size:medium\;"> </span></p><hr /><br /><p>Â </p><div><span style="font-size:medium\;"><em></em></span><p><em><strong>Schedule Details:</strong> The 2nd Saturday of each month at 1:30pm | Upcoming Walks: March 11\, April 8\, and May 13</em></p><em></em><p><em><strong>Location:</strong> Meet at 1:30pm on the Plaza at Mendocino Coast Botanical Gardens</em></p><em></em></div><p><span style="font-size:medium\;"><strong>Payment Information:</strong> Rhododendron Walks are FREE with Gardens admission!</span></p>
LOCATION:Mendocino Coast Botanical Gardens Fort Bragg
UID:e.2883.1089
SEQUENCE:3
DTSTAMP:20260424T110036Z
URL:http://mendocinocoast.smartcms.site/events/details/rhododendron-walks-01-16-2017-1089
END:VEVENT

END:VCALENDAR
