BEGIN:VCALENDAR
VERSION:2.0
PRODID:-//ChamberMaster//Event Calendar 2.0//EN
METHOD:PUBLISH
X-PUBLISHED-TTL:P3D
REFRESH-INTERVAL:P3D
CALSCALE:GREGORIAN
BEGIN:VEVENT
DTSTART;VALUE=DATE:20170403
DTEND;VALUE=DATE:20170404
TRANSP:TRANSPARENT
X-MICROSOFT-CDO-ALLDAYEVENT:TRUE
SUMMARY:Rhododendron Show
DESCRIPTION:40th Annual John Druecker Memorial Rhododendron ShowCALIFORNIA'S LARGEST RHODODENDRON SHOW!April 22 and 23\, 2017\n9:00am to 5:00pmEach year\, theÂ Noyo Chapter of the American Rhododendron Society (ARS) partners with Mendocino Coast Botanical Gardens to showcase some of the best rhodyÂ specimens on the west coast. The 40th Annual John Druecker Memorial Rhododendron Show will be held at the Mendocino Coast Botanical Gardens on Saturday\, April 22 and Sunday\, April 23. The juried show is the largest in California with more than 700 entries entered annually filling the big tent with cascades of color and fragrance.The Rhododendron Show is free to attend and open to the public from 9:00am to 5:00pm on Saturday and Sunday. In addition to hundreds of individual flower entries\, there will be plants\, bonsai\, photos\, floral arrangements\, raffle gifts\, educational displays\, and a silent auction.Â Rhodyâ€™s Garden CafÃ© will be open both days\, serving snacks\, lunch\, and ice cream. A large selection of rhododendrons and other plants will be available for purchase in the big tent and atÂ Nursery on the Plaza. Local growers and Noyo Chapter ARS members will be on hand to answer questions and discuss the best plants for your garden.Mendocino Coast Botanical Gardens will be open to visitors during the Rhododendron Show (regular admission rates apply) with memberships to the Gardens on sale at a 10% discount all weekend long. The Gardens is home to one of the nationâ€™s largest collections of rhododendronsâ€”many hybridized on the Mendocino Coastâ€”and they promise to fill the formal gardens and woodlands with riotous color. The Gardensâ€™Â Rhododendron Collection includes over 122 species and 315 taxa. More than 1\,000 rhododendrons can be seen blooming throughout the Gardens from early spring until June!ENTER THE SHOW\nAll rhody growers are welcome to enter their best trusses for judging. Those wishing to participate should bring their entries to the Gardens on April 20 from 5:00pm to 7:00pm or April 21 from 9:00am to 1:00pm. Chapter members will be available to assist in filling out entry forms. Judges will award ribbons and trophies to top entries in a wide range of categories. Please visit www.gardenbythesa.org for details on the event orÂ www.noyochapterars.com for more information on entry rules and procedures.
X-ALT-DESC;FMTTYPE=text/html:<h1>40th Annual John Druecker Memorial Rhododendron Show</h1><h2><em>CALIFORNIA'S LARGEST RHODODENDRON SHOW!</em></h2><p><span style="font-size:medium\;"><strong>April 22 and 23\, 2017<br /></strong><strong>9:00am to 5:00pm</strong></span></p><p><span style="font-size:medium\;">Each year\, theÂ <a href="http://www.noyochapterars.com/" target="_blank">Noyo Chapter of the American Rhododendron Society (ARS)</a> partners with Mendocino Coast Botanical Gardens to showcase some of the best rhodyÂ specimens on the west coast. The 40th Annual John Druecker Memorial Rhododendron Show will be held at the Mendocino Coast Botanical Gardens on Saturday\, April 22 and Sunday\, April 23. The juried show is the largest in California with more than 700 entries entered annually filling the big tent with cascades of color and fragrance.</span></p><p><span style="font-size:medium\;">The Rhododendron Show is free to attend and open to the public from 9:00am to 5:00pm on Saturday and Sunday. In addition to hundreds of individual flower entries\, there will be plants\, bonsai\, photos\, floral arrangements\, raffle gifts\, educational displays\, and a silent auction.Â <a href="http://www.gardenbythesea.org/visit/rhodys-garden-cafe/" target="_blank">Rhodyâ€™s Garden CafÃ©</a> will be open both days\, serving snacks\, lunch\, and ice cream. A large selection of rhododendrons and other plants will be available for purchase in the big tent and atÂ <a href="http://www.gardenbythesea.org/visit/retail-nursery/" target="_blank">Nursery on the Plaza</a>. Local growers and Noyo Chapter ARS members will be on hand to answer questions and discuss the best plants for your garden.</span></p><p><span style="font-size:medium\;">Mendocino Coast Botanical Gardens will be open to visitors during the Rhododendron Show (regular admission rates apply) with memberships to the Gardens on sale at a 10% discount all weekend long. The Gardens is home to one of the nationâ€™s largest collections of rhododendronsâ€”many hybridized on the Mendocino Coastâ€”and they promise to fill the formal gardens and woodlands with riotous color. The Gardensâ€™Â <a href="http://www.gardenbythesea.org/mcbg-plant-collections/rhododendron-collection/" target="_blank">Rhododendron Collection</a> includes over 122 species and 315 taxa. More than 1\,000 rhododendrons can be seen blooming throughout the Gardens from early spring until June!</span></p><p><span style="font-size:medium\;"><strong>ENTER THE SHOW</strong></span><br /><span style="font-size:medium\;"><em><strong>All rhody growers are welcome to enter their best trusses for judging.</strong></em> Those wishing to participate should bring their entries to the Gardens on April 20 from 5:00pm to 7:00pm or April 21 from 9:00am to 1:00pm. Chapter members will be available to assist in filling out entry forms. Judges will award ribbons and trophies to top entries in a wide range of categories. Please visit www.gardenbythesa.org for details on the event orÂ <a href="http://www.gardenbythesea.org/calendar/rhododendron-show-2017/www.noyochapterars.com" target="_blank">www.noyochapterars.com</a> for more information on entry rules and procedures.</span></p>
LOCATION:Mendocino Coast Botanical Gardens Fort Bragg
UID:e.2883.1177
SEQUENCE:3
DTSTAMP:20260424T061007Z
URL:http://mendocinocoast.smartcms.site/events/details/rhododendron-show-04-03-2017-1177
END:VEVENT

END:VCALENDAR
