BEGIN:VCALENDAR
VERSION:2.0
PRODID:-//ChamberMaster//Event Calendar 2.0//EN
METHOD:PUBLISH
X-PUBLISHED-TTL:P3D
REFRESH-INTERVAL:P3D
CALSCALE:GREGORIAN
BEGIN:VEVENT
DTSTART;VALUE=DATE:20170217
DTEND;VALUE=DATE:20170218
TRANSP:TRANSPARENT
X-MICROSOFT-CDO-ALLDAYEVENT:TRUE
SUMMARY:Rhododendron Propagation Workshop
DESCRIPTION:Rhododendron propagation for the home gardener!SATURDAY\, MARCH 18\, 201710:00amÂ toÂ 12:00pmÂ in the Gardens Meeting Room at Mendocino Coast Botanical Gardens\nwithÂ Dennis McKiver - President of theÂ American Rhododendron Societyâ€™s NoyoÂ Chapter Learn how to grow rhododendrons from seed and cuttings withÂ hands-on demonstrations. Since rhododendrons are relativelyÂ difficult to propagate the techniques you learn in class can beÂ applied to the propagation of many other plants. Plus take oneÂ or more rhody cuttings to root at home!Workshop instructorÂ Dennis McKiver has been growing and collecting rhododendrons since 2001. His collection has over 1\,000 hybrid and species rhododendrons.Other topics covered:Explore ground layering and air layering techniques.Learn about the tropical Vireya rhododendrons that can be rooted in a glass of water.The history of rhododendron propagation and why we no longer propagate by grafting in the U.S.** Â Join us this spring for aÂ Rhododendron Walk in the Gardens the second Saturday of each month â€”Â March 11\, April 8\, and May 13 atÂ 1:30pmÂ **
X-ALT-DESC;FMTTYPE=text/html:<h1>Rhododendron propagation for the home gardener!</h1><h2>SATURDAY\, MARCH 18\, 2017</h2><p><span style="font-size:small\;"><strong>10:00amÂ toÂ 12:00pmÂ in the Gardens Meeting Room at Mendocino Coast Botanical Gardens</strong></span><br /><span style="font-size:small\;"><strong>withÂ Dennis McKiver - President of theÂ <a href="http://www.noyochapterars.com/" target="_blank">American Rhododendron Societyâ€™s NoyoÂ Chapter</a> </strong></span></p><p><span style="font-size:medium\;">Learn how to grow rhododendrons from seed and cuttings withÂ hands-on demonstrations. Since rhododendrons are relativelyÂ difficult to propagate the techniques you learn in class can beÂ applied to the propagation of many other plants. Plus take oneÂ or more rhody cuttings to root at home!</span></p><p><span style="font-size:medium\;"><em>Workshop instructorÂ Dennis McKiver has been growing and collecting rhododendrons since 2001. His collection has over 1\,000 hybrid and species rhododendrons.</em></span></p><p><span style="font-size:medium\;">Other topics covered:</span></p><ul><li><span style="font-size:medium\;">Explore ground layering and air layering techniques.</span></li><li><span style="font-size:medium\;">Learn about the tropical Vireya rhododendrons that can be rooted in a glass of water.</span></li><li><span style="font-size:medium\;">The history of rhododendron propagation and why we no longer propagate by grafting in the U.S.</span></li></ul><p><span style="font-size:medium\;"><strong><em>** Â Join us this spring for aÂ <a href="http://www.gardenbythesea.org/calendar/rhododendron-walks-2017/" target="_blank">Rhododendron Walk</a> in the Gardens the second Saturday of each month â€”Â <strong>March 11\, April 8\, and May 13</strong> atÂ 1:30pmÂ **</em></strong></span></p><div><strong><em><br /></em></strong></div>
LOCATION:Mendocino Coast Botanical Gardens Fort Bragg
UID:e.2883.1125
SEQUENCE:3
DTSTAMP:20260424T093521Z
URL:http://mendocinocoast.smartcms.site/events/details/rhododendron-propagation-workshop-02-17-2017-1125
END:VEVENT

END:VCALENDAR
