BEGIN:VCALENDAR
VERSION:2.0
PRODID:-//ChamberMaster//Event Calendar 2.0//EN
METHOD:PUBLISH
X-PUBLISHED-TTL:P3D
REFRESH-INTERVAL:P3D
CALSCALE:GREGORIAN
BEGIN:VEVENT
DTSTART:20160516T160000Z
DTEND:20160516T120000Z
X-MICROSOFT-CDO-ALLDAYEVENT:FALSE
SUMMARY:Retro Sunday
DESCRIPTION:Retro Sunday is Mendocino Coast Botanical Gardens dayÂ of giving back to the community that has supported us for more than 55 years!JustÂ $1 entrance fee all day long and $1 single-scoop ice cream atÂ Rhody's CafÃ©.Â Gardens memberships will be on sale at a 10% discount! Read about theÂ Benefits of Membership and support the Gardens with your membership!Bring family and friends. Come for an hour\, or visit all day.
X-ALT-DESC;FMTTYPE=text/html:<p><a href="https://www.facebook.com/events/1739079522988048/" target="_blank">Retro Sunday</a> is Mendocino Coast Botanical Gardens dayÂ of giving back to the community that has supported us for more than 55 years!</p><p>JustÂ $1 entrance fee all day long and $1 single-scoop ice cream atÂ <a href="http://www.gardenbythesea.org/visit/rhodys-garden-cafe/">Rhody's CafÃ©</a>.Â <strong>Gardens memberships will be on sale at a 10% discount!</strong> Read about theÂ <a href="http://www.gardenbythesea.org/about-the-gardens/membership/" target="_blank">Benefits of Membership</a> and support the Gardens with your membership!</p><p><strong><em>Bring family and friends. Come for an hour\, or visit all day. </em></strong></p>
LOCATION:Mendocino Coast Botanical Gardens Fort Bragg
UID:e.2883.931
SEQUENCE:3
DTSTAMP:20260425T003621Z
URL:http://mendocinocoast.smartcms.site/events/details/retro-sunday-05-16-2016-931
END:VEVENT

END:VCALENDAR
