BEGIN:VCALENDAR
VERSION:2.0
PRODID:-//ChamberMaster//Event Calendar 2.0//EN
METHOD:PUBLISH
X-PUBLISHED-TTL:P3D
REFRESH-INTERVAL:P3D
CALSCALE:GREGORIAN
BEGIN:VEVENT
DTSTART:20170625T210000Z
DTEND:20170626T000000Z
X-MICROSOFT-CDO-ALLDAYEVENT:FALSE
SUMMARY:Retro Radio
DESCRIPTION:You don't need a Delorean to travel back to the 1950s! As part of its 125thanniversary celebration\, the Guest House Museum presents a nostalgic visit back to KDAC's first decade. Former KDAC DJ\, "Ranch house" Ron Harrison\, will be your time travel guide\, as he shares personal behind-the-scenes anecdotes of the station during the 50s\, and reads advertisements and news items of the day in DJ mode. Chuck Tourtillott will provide live music from the era to get your toes tappin'.
X-ALT-DESC;FMTTYPE=text/html:<span style="font-family: 'book antiqua'\, palatino\; font-size: medium\;">You don&rsquo\;t need a Delorean to travel back to the 1950s! As part of its 125thanniversary celebration\, the Guest House Museum presents a nostalgic visit back to KDAC&#39\;s first decade. Former KDAC DJ\, &ldquo\;Ranch house&rdquo\; Ron Harrison\, will be your time travel guide\, as he shares personal behind-the-scenes anecdotes of the station during the 50s\, and reads advertisements and news items of the day in DJ mode. Chuck Tourtillott will provide live music from the era to get your toes tappin&rsquo\;.</span>
LOCATION:Town Hall in Fort Bragg
UID:e.2883.1273
SEQUENCE:3
DTSTAMP:20260424T024514Z
URL:http://mendocinocoast.smartcms.site/events/details/retro-radio-1273
END:VEVENT

END:VCALENDAR
