BEGIN:VCALENDAR
VERSION:2.0
PRODID:-//ChamberMaster//Event Calendar 2.0//EN
METHOD:PUBLISH
X-PUBLISHED-TTL:P3D
REFRESH-INTERVAL:P3D
CALSCALE:GREGORIAN
BEGIN:VEVENT
DTSTART:20170601T170000Z
DTEND:20170604T000000Z
X-MICROSOFT-CDO-ALLDAYEVENT:FALSE
SUMMARY:"Restoration": Monotypes By Elizabeth Ross
DESCRIPTION:Beginning June 2 Partners Gallery presents "Restoration: Monotypes by Elizabeth Ross". Several years ago the Philo artist began to almost single-handedly remove 5 acres of aged grape vines where she lives in an effort to restore the land for future generations. Her new monotypes are made using both ink and dry pigments\; stencils are used to suggest the lush layers of plant life. Horizon lines\, weather\, seasonal changes and plant diversity are reflected in this vibrant exploration of human impact and restoration.\n\n \nSpecial Event - Saturday June 3 at 12:00\n\nMendocino Film Festival reception for BIG SONIA\, a feature documentary which profiles 89-year old Sonia Warshawski   Holocaust survivor\, national treasure\, and local celebrity. Sonia and the filmmakers will be present at the reception. http://www.bigsonia.com
X-ALT-DESC;FMTTYPE=text/html:<span style="font-family: Verdana\, Arial\; font-size: 11px\;">Beginning June 2 Partners Gallery presents &quot\;Restoration: Monotypes by Elizabeth Ross&quot\;. Several years ago the Philo artist began to almost single-handedly remove 5 acres of aged grape vines where she lives in an effort to restore the land for future generations. Her new monotypes are made using both ink and dry pigments\; stencils are used to suggest the lush layers of plant life. Horizon lines\, weather\, seasonal changes and plant diversity are reflected in this vibrant exploration of human impact and restoration.</span><br />\n&nbsp\;\n<p style="margin: 0px\; border: 0px none\; padding: 0px\; font-family: Verdana\, Arial\; font-size: 11px\;">Special Event - Saturday June 3 at 12:00</p>\n\n<p style="margin: 0px\; border: 0px none\; padding: 0px\; font-family: Verdana\, Arial\; font-size: 11px\;">Mendocino Film Festival reception for BIG SONIA\, a feature documentary which profiles 89-year old Sonia Warshawski &ndash\; Holocaust survivor\, national treasure\, and local celebrity. Sonia and the filmmakers will be present at the reception. http://www.bigsonia.com</p>\n
LOCATION:Partners Gallery is located at 335 N. Franklin Street in Fort Bragg and is open Wednesday through Monday 10 am to 5 pm and Sundays 10 am to 4 pm. 707 962-0233 http://www.partnersgallery.com The Gallery will be closed Saturday June 17th.
UID:e.2883.1210
SEQUENCE:3
DTSTAMP:20260424T024513Z
URL:http://mendocinocoast.smartcms.site/events/details/restoration-monotypes-by-elizabeth-ross-1210
END:VEVENT

END:VCALENDAR
