BEGIN:VCALENDAR
VERSION:2.0
PRODID:-//ChamberMaster//Event Calendar 2.0//EN
METHOD:PUBLISH
X-PUBLISHED-TTL:P3D
REFRESH-INTERVAL:P3D
CALSCALE:GREGORIAN
BEGIN:VEVENT
DTSTART:20181207T200000Z
DTEND:20181208T200000Z
X-MICROSOFT-CDO-ALLDAYEVENT:FALSE
SUMMARY:Redwood Community Chorus Performance
DESCRIPTION:The Redwood Community Chorus is excited to take you on a journey this winter season beginning in Scotland with the simple text and melodies of John Bell then landing in California with the more complex and modern harmonies of Kevin A. Memley. Along the way we will visit Palestine\, New York\, and England
X-ALT-DESC;FMTTYPE=text/html:The Redwood Community Chorus is excited to take you on a journey this winter season beginning in Scotland with the simple text and melodies of John Bell then landing in California with the more complex and modern harmonies of Kevin A. Memley. Along the way we will visit Palestine\, New York\, and England
LOCATION:Mendocino Presbyterian Church
UID:e.2883.10418
SEQUENCE:3
DTSTAMP:20260422T192848Z
URL:http://mendocinocoast.smartcms.site/events/details/redwood-community-chorus-performance-10418
END:VEVENT

END:VCALENDAR
