BEGIN:VCALENDAR
VERSION:2.0
PRODID:-//ChamberMaster//Event Calendar 2.0//EN
METHOD:PUBLISH
X-PUBLISHED-TTL:P3D
REFRESH-INTERVAL:P3D
CALSCALE:GREGORIAN
BEGIN:VEVENT
DTSTART:20170810T020000Z
DTEND:20170810T040000Z
X-MICROSOFT-CDO-ALLDAYEVENT:FALSE
SUMMARY:Reading: A Walk in The Woods by Lee Blessing\, directed by Debira Branscombe
DESCRIPTION:This is part of our reading series to introduce new\, classic\, or original work to our audiences.
X-ALT-DESC;FMTTYPE=text/html:<div>This is part of our reading series to introduce new\, classic\, or original work to our audiences.&nbsp\;</div>\n
LOCATION:Mendocino Theatre\, located at 45200 Little Lake Road
UID:e.2883.4378
SEQUENCE:3
DTSTAMP:20260423T232731Z
URL:http://mendocinocoast.smartcms.site/events/details/reading-a-walk-in-the-woods-by-lee-blessing-directed-by-debira-branscombe-4378
END:VEVENT

END:VCALENDAR
