BEGIN:VCALENDAR
VERSION:2.0
PRODID:-//ChamberMaster//Event Calendar 2.0//EN
METHOD:PUBLISH
X-PUBLISHED-TTL:P3D
REFRESH-INTERVAL:P3D
CALSCALE:GREGORIAN
BEGIN:VEVENT
DTSTART:20171014T170000Z
DTEND:20171014T230000Z
X-MICROSOFT-CDO-ALLDAYEVENT:FALSE
SUMMARY:Rainwater Catchment FREE workshop in Ft Bragg
DESCRIPTION:The City of Ft Bragg's Home Energy Link Program (HELP)\, with the assistance of Village Ecosystem's Anna Birkas\, is conducting a FREE 6 hour Rainwater Catchment training workshop at Redwood Coast Senior Center\, 590 North Harold Street\, Ft Bragg on Saturday October 14\, 2017 starting at 10:00am. For reservations\, contact HELP at 119 N Franklin Street\, M-F\, 9-5\, phone 707 962-3070\, email HELP@redinet.org. Catching rainwater through the winter and storing it for summer use is one way to conserve precious potable water to irrigate vegetable and flower gardens\, decorative outdoor plants\, and fruit trees.
X-ALT-DESC;FMTTYPE=text/html:The City of Ft Bragg&rsquo\;s Home Energy Link Program (HELP)\, with the assistance of Village Ecosystem&rsquo\;s Anna Birkas\, is conducting a FREE 6 hour Rainwater Catchment training workshop at Redwood Coast Senior Center\, 590 North Harold Street\, Ft Bragg on Saturday October 14\, 2017 starting at 10:00am. For reservations\, contact HELP at 119 N Franklin Street\, M-F\, 9-5\, phone 707 962-3070\, email HELP@redinet.org. Catching rainwater through the winter and storing it for summer use is one way to conserve precious potable water to irrigate vegetable and flower gardens\, decorative outdoor plants\, and fruit trees.
LOCATION:Redwood Coast Senior Center 590 North Harold Street Ft Bragg
UID:e.2883.4433
SEQUENCE:3
DTSTAMP:20260423T202020Z
URL:http://mendocinocoast.smartcms.site/events/details/rainwater-catchment-free-workshop-in-ft-bragg-10-14-2017-4433
END:VEVENT

END:VCALENDAR
