BEGIN:VCALENDAR
VERSION:2.0
PRODID:-//ChamberMaster//Event Calendar 2.0//EN
METHOD:PUBLISH
X-PUBLISHED-TTL:P3D
REFRESH-INTERVAL:P3D
CALSCALE:GREGORIAN
BEGIN:VEVENT
DTSTART:20190502T020000Z
DTEND:20190502T033000Z
X-MICROSOFT-CDO-ALLDAYEVENT:FALSE
SUMMARY:Purple Rain - Classic Film Series
DESCRIPTION:The jaw dropping dance moves\, passionate and provocative lyrics and intoxicating magnetism of Prince is what it's all about when Mendocino Film Festival presents Purple Rain\, the next film in the Classic Film Series at Coast Cinemas. While some may chuckle at occasional over the top performances there is absolutely no denying Prince's overwhelming power and magnificence. Neither can you deny that this is a truly classic\, incredible bad/good film that deserves to be seen on the big screen to appreciate.\n\nRATED R - Restricted: Under 17 requires accompanying parent or adult guardian.\n\nIMPORTANT: Ticket holders must arrive no later than ten minutes prior to show time to be guaranteed a seat. Anyone arriving less than 15 minutes prior to showtime will not be guaranteed a seat\, even if they have purchased a ticket. There are no exchanges or refunds.\n\nThanks to the film sponsors Los Galittos and Golden West Saloon\, and to our media sponsor KOZT FM. All proceeds go to the Mendocino Film Festival - May 30th to June 2nd.
X-ALT-DESC;FMTTYPE=text/html:<p><span style="background-color:transparent\; color:#000000\; font-family:arial\; font-size:11pt">The jaw dropping dance moves\, passionate and provocative lyrics and intoxicating magnetism of Prince is what it&#39\;s all about when Mendocino Film Festival presents <em>Purple Rain</em></span><span style="background-color:transparent\; color:#000000\; font-family:arial\; font-size:11pt">\, the next film in the Classic Film Series at Coast Cinemas. While some may chuckle at occasional over the top performances there is absolutely <strong>no denying</strong></span><span style="background-color:transparent\; color:#000000\; font-family:arial\; font-size:11pt"> Prince&#39\;s overwhelming power and magnificence. Neither can you deny that this is a truly classic\, incredible bad/good film that deserves to be seen on the big screen to appreciate.</span></p>\n\n<p><u>RATED R</u><span style="background-color:transparent\; color:#000000\; font-family:arial\; font-size:11pt"> - Restricted: Under 17 requires accompanying parent or adult guardian.</span></p>\n\n<p><strong>IMPORTANT</strong><span style="background-color:transparent\; color:#000000\; font-family:arial\; font-size:11pt">: Ticket holders must arrive no later than ten minutes prior to show time to be guaranteed a seat. Anyone arriving less than 15 minutes prior to showtime will not be guaranteed a seat\, even if they have purchased a ticket. There are no exchanges or refunds.</span></p>\n\n<p><span style="background-color:transparent\; color:#000000\; font-family:arial\; font-size:11pt">Thanks to the film sponsors <a href="http://www.fortbraggrestaurants.com/los-gallitos">Los Galittos</a> and <a href="https://www.fortbragg.com/listings/goldenwest/">Golden West Saloon</a>\, and to our media sponsor <a href="https://www.kozt.com/">KOZT FM</a>. All proceeds go to the <a href="http://www.mendocinofilmfestival.org/">Mendocino Film Festival</a> - May 30th to June 2nd.</span></p>\n
LOCATION:Coast Cinemas 135 S Franklin Street Fort Bragg\, CA
UID:e.2883.11416
SEQUENCE:3
DTSTAMP:20260422T111621Z
URL:http://mendocinocoast.smartcms.site/events/details/purple-rain-classic-film-series-11416
END:VEVENT

END:VCALENDAR
