BEGIN:VCALENDAR
VERSION:2.0
PRODID:-//ChamberMaster//Event Calendar 2.0//EN
METHOD:PUBLISH
X-PUBLISHED-TTL:P3D
REFRESH-INTERVAL:P3D
CALSCALE:GREGORIAN
BEGIN:VEVENT
DTSTART;VALUE=DATE:20180704
DTEND;VALUE=DATE:20180705
TRANSP:TRANSPARENT
X-MICROSOFT-CDO-ALLDAYEVENT:TRUE
SUMMARY:Puppeteer Circus Comes to Rotary Park
DESCRIPTION:Puppeteer Circus Comes to Rotary Park! \n\nKids special performance after the 4th of July Parade. See a puppet show by Bay Area Artists\n\n\n\nSponsored by the Mendocino Rotary Club
X-ALT-DESC;FMTTYPE=text/html:Puppeteer Circus Comes to Rotary Park!&nbsp\;<br />\nKids special performance after the 4th of July Parade. See a puppet show by Bay Area Artists<br />\n<br />\nSponsored by the Mendocino Rotary Club&nbsp\;&nbsp\;&nbsp\;&nbsp\;&nbsp\;&nbsp\;&nbsp\;&nbsp\;
LOCATION:Rotary Park in Mendocino
UID:e.2883.8984
SEQUENCE:3
DTSTAMP:20260423T040850Z
URL:http://mendocinocoast.smartcms.site/events/details/puppeteer-circus-comes-to-rotary-park-8984
END:VEVENT

END:VCALENDAR
