BEGIN:VCALENDAR
VERSION:2.0
PRODID:-//ChamberMaster//Event Calendar 2.0//EN
METHOD:PUBLISH
X-PUBLISHED-TTL:P3D
REFRESH-INTERVAL:P3D
CALSCALE:GREGORIAN
BEGIN:VEVENT
DTSTART;VALUE=DATE:20170109
DTEND;VALUE=DATE:20170110
TRANSP:TRANSPARENT
X-MICROSOFT-CDO-ALLDAYEVENT:TRUE
SUMMARY:Pre-Symphony Prime Rib Dinner
DESCRIPTION:Saturday JANUARY 28 FORT BRAGG SENIORS will serve a pre-symphony Dinner beginning from 5:30 to 7:30pm. Enjoy a choice of Prime Rib\, Chicken Oscar or Stuffed Portobello with Salad\, Baked Potato and Mixed Vegetables. The Symphony of the Redwoods concert will be next door at Cotton Auditorium beginning at 7:30. You can park in the generous lot here at the Center and stroll next door after your delicious meal. These community events support the Food4Food program. Call to reserve your table for 4 or more.
X-ALT-DESC;FMTTYPE=text/html:<p>Saturday JANUARY 28 FORT BRAGG SENIORS will serve a pre-symphony Dinner beginning from 5:30 to 7:30pm. Enjoy a choice of Prime Rib\, Chicken Oscar or Stuffed Portobello with Salad\, Baked Potato and Mixed Vegetables. The Symphony of the Redwoods concert will be next door at Cotton Auditorium beginning at 7:30. You can park in the generous lot here at the Center and stroll next door after your delicious meal. These community events support the Food4Food program. Call to reserve your table for 4 or more.</p>
LOCATION:Redwood Coast Seniors Fort Bragg
UID:e.2883.1084
SEQUENCE:3
DTSTAMP:20260424T110037Z
URL:http://mendocinocoast.smartcms.site/events/details/pre-symphony-prime-rib-dinner-01-09-2017-1084
END:VEVENT

END:VCALENDAR
