BEGIN:VCALENDAR
VERSION:2.0
PRODID:-//ChamberMaster//Event Calendar 2.0//EN
METHOD:PUBLISH
X-PUBLISHED-TTL:P3D
REFRESH-INTERVAL:P3D
CALSCALE:GREGORIAN
BEGIN:VEVENT
DTSTART:20181111T010000Z
DTEND:20181111T030000Z
X-MICROSOFT-CDO-ALLDAYEVENT:FALSE
SUMMARY:Pre symphony Dinner
DESCRIPTION:Sal's Bistro at the senior center\,would like to invite you to a pre symphony dinner. Saturday November 10th 5-7pm.Dinner is Chile Rellenos\,Tacos\, Organic green Salad\, Flan for dessert. $20.00 includes margaritas\,Beer\,Wine\, Fruit juices\, and coffee or tea.
X-ALT-DESC;FMTTYPE=text/html:Sal&#39\;s Bistro at the senior center\,would like to invite you to a pre symphony dinner. Saturday November 10th 5-7pm.Dinner is Chile Rellenos\,Tacos\, Organic green Salad\, Flan for dessert. $20.00 includes margaritas\,Beer\,Wine\, Fruit juices\, and coffee or tea.
LOCATION:Redwood Coast Senior Center 490 N Harold St Fort Bragg
UID:e.2883.10343
SEQUENCE:3
DTSTAMP:20260422T210521Z
URL:http://mendocinocoast.smartcms.site/events/details/pre-symphony-dinner-10343
END:VEVENT

END:VCALENDAR
