BEGIN:VCALENDAR
VERSION:2.0
PRODID:-//ChamberMaster//Event Calendar 2.0//EN
METHOD:PUBLISH
X-PUBLISHED-TTL:P3D
REFRESH-INTERVAL:P3D
CALSCALE:GREGORIAN
BEGIN:VEVENT
DTSTART;VALUE=DATE:20170321
DTEND;VALUE=DATE:20170322
TRANSP:TRANSPARENT
X-MICROSOFT-CDO-ALLDAYEVENT:TRUE
SUMMARY:Pre-Symphony Dinner
DESCRIPTION:Come celebrate the Finale of the Symphony of the Redwoods season with dinner at the Senior \nCenter. Park in the generous parking lot right next door to Cotton Auditorium and stroll off the delicious meal of your choice of Stuffed Pork Tenderloin\, Stuffed Sole or Eggplant Parmesean. The meal will be rounded out with Wild Rice\, Sauteed Vegetables\, a Cesear Salad and dessert. Local beers and wines are included for $20 which goes for meals for Coastal elders who can't otherwise afford a meal.
X-ALT-DESC;FMTTYPE=text/html:<p>Come celebrate the Finale of the Symphony of the Redwoods season with dinner at the Senior <br />Center. Park in the generous parking lot right next door to Cotton Auditorium and stroll off the delicious meal of your choice of Stuffed Pork Tenderloin\, Stuffed Sole or Eggplant Parmesean. The meal will be rounded out with Wild Rice\, Sauteed Vegetables\, a Cesear Salad and dessert. Local beers and wines are included for $20 which goes for meals for Coastal elders who can't otherwise afford a meal.</p>
LOCATION:Redwood Coast Seniors Fort Bragg
UID:e.2883.1167
SEQUENCE:3
DTSTAMP:20260424T075505Z
URL:http://mendocinocoast.smartcms.site/events/details/pre-symphony-dinner-03-21-2017-1167
END:VEVENT

END:VCALENDAR
