BEGIN:VCALENDAR
VERSION:2.0
PRODID:-//ChamberMaster//Event Calendar 2.0//EN
METHOD:PUBLISH
X-PUBLISHED-TTL:P3D
REFRESH-INTERVAL:P3D
CALSCALE:GREGORIAN
BEGIN:VEVENT
DTSTART:20191110T010000Z
DTEND:20191110T033000Z
X-MICROSOFT-CDO-ALLDAYEVENT:FALSE
SUMMARY:Potluck Social
DESCRIPTION:There will be a Potluck Social at the Fort Bragg - Inglenook Community Center on Saturday\, Nov. 9\, 2019. The Potluck Dinner will be served from 5:00 PM to 6:00 PM and a presentation entitled\, "Reclaiming the Wonder of Audubon's America"\, will follow the potluck from 6:00 to 7:30 in the evening. David Giesen will be be the guest speaker giving a celebratory narrative about the lives of John James Audubon and Henry George. Taken together\, the two narratives are intended to encourage contemplation of what exactly constitutes the spiritual pith of the American dream. David will also share slides of Audubon's original paintings and a full-size facsimile of one of Audubon's huge double-elephant volumes.
X-ALT-DESC;FMTTYPE=text/html:There will be a Potluck Social at the Fort Bragg - Inglenook Community Center on Saturday\, Nov. 9\, 2019. The Potluck Dinner will be served from 5:00 PM to 6:00 PM and a presentation entitled\, &quot\;Reclaiming the Wonder of Audubon&#39\;s America&quot\;\, will follow the potluck from 6:00 to 7:30 in the evening. David Giesen will be be the guest speaker giving a celebratory narrative about the lives of John James Audubon and Henry George. Taken together\, the two narratives are intended to encourage contemplation of what exactly constitutes the spiritual pith of the American dream. David will also share slides of Audubon&#39\;s original paintings and a full-size facsimile of one of Audubon&#39\;s huge double-elephant volumes.
LOCATION:26500 N. HWY 1 Fort Bragg\, CA (near Inglenook)
UID:e.2883.12506
SEQUENCE:3
DTSTAMP:20260422T011530Z
URL:http://mendocinocoast.smartcms.site/events/details/potluck-social-11-09-2019-12506
END:VEVENT

END:VCALENDAR
