BEGIN:VCALENDAR
VERSION:2.0
PRODID:-//ChamberMaster//Event Calendar 2.0//EN
METHOD:PUBLISH
X-PUBLISHED-TTL:P3D
REFRESH-INTERVAL:P3D
CALSCALE:GREGORIAN
BEGIN:VEVENT
DTSTART:20170702T190000Z
DTEND:20170702T200000Z
X-MICROSOFT-CDO-ALLDAYEVENT:FALSE
SUMMARY:Point Arena Independence Parade
DESCRIPTION:The Annual Downtown Parade steps off at noon on Main Street.  The theme this year is "Diver-City." Groups are welcomed to join the parade.  Since this is a family-friendly parade\, we ask you to keep things classy\, safe\, and fun.\n\nFor parade entry forms\, please contact Point Arena City Hall at 882-2122 or visit the website at www.cityofpointarena.net.
X-ALT-DESC;FMTTYPE=text/html:<p style="margin: 0px\; border: 0px none\; padding: 0px\; font-family: Verdana\, Arial\; font-size: 11px\;">The Annual Downtown Parade steps off at noon on Main Street. &nbsp\;The theme this year is &ldquo\;Diver-City.&rdquo\; Groups are welcomed to join the parade.&nbsp\; Since this is a family-friendly parade\, we ask you to keep things classy\, safe\, and fun.</p>\n\n<p style="margin: 0px\; border: 0px none\; padding: 0px\; font-family: Verdana\, Arial\; font-size: 11px\;">For parade entry forms\, please contact Point Arena City Hall at 882-2122 or visit the website at&nbsp\;<a href="http://www.cityofpointarena.net/" style="margin: 0px\; color: rgb(0\, 0\, 153)\; text-decoration: none\;">www.cityofpointarena.net</a>.</p>\n
LOCATION:Main Street in Point Arena
UID:e.2883.1525
SEQUENCE:3
DTSTAMP:20260424T011243Z
URL:http://mendocinocoast.smartcms.site/events/details/point-arena-independence-parade-1525
END:VEVENT

END:VCALENDAR
