BEGIN:VCALENDAR
VERSION:2.0
PRODID:-//ChamberMaster//Event Calendar 2.0//EN
METHOD:PUBLISH
X-PUBLISHED-TTL:P3D
REFRESH-INTERVAL:P3D
CALSCALE:GREGORIAN
BEGIN:VEVENT
DTSTART:20180630T230000Z
DTEND:20180701T060000Z
X-MICROSOFT-CDO-ALLDAYEVENT:FALSE
SUMMARY:Point Arena Fireworks & Street Fair
DESCRIPTION:The most highly anticipated event on the South Coast   the Point Arena Independence Celebration   will occur the weekend of June 30 & July 1\, 2018! Join us for food\, fun and the largest display of fireworks in the region in beautiful Arena Cove! Saturday\, June 30   Street Fair & Fireworks Extravaganza Festivities kick off Saturday\, July 1 at 4:00 pm with food\, bands\, arts and crafts and entertainment. The Fireworks Extravaganza will explode into the night sky starting at dark. Food and craft vendor spots are available for the Street Fair on July 1. Download our Vendor Application Form at the City of Point Arena website at http://www.cityofpointarena.net/ or contact Point Arena City Hall at 707-882-2122.
X-ALT-DESC;FMTTYPE=text/html:The most highly anticipated event on the South Coast &ndash\; the Point Arena Independence Celebration &ndash\; will occur the weekend of June 30 &amp\; July 1\, 2018! Join us for food\, fun and the largest display of fireworks in the region in beautiful Arena Cove! Saturday\, June 30 &ndash\; Street Fair &amp\; Fireworks Extravaganza Festivities kick off Saturday\, July 1 at 4:00 pm with food\, bands\, arts and crafts and entertainment. The Fireworks Extravaganza will explode into the night sky starting at dark. Food and craft vendor spots are available for the Street Fair on July 1. Download our Vendor Application Form at the City of Point Arena website at http://www.cityofpointarena.net/ or contact Point Arena City Hall at 707-882-2122.
LOCATION:Arena Cove and Point Arena Pier
UID:e.2883.8766
SEQUENCE:3
DTSTAMP:20260423T060622Z
URL:http://mendocinocoast.smartcms.site/events/details/point-arena-fireworks-street-fair-8766
END:VEVENT

END:VCALENDAR
