BEGIN:VCALENDAR
VERSION:2.0
PRODID:-//ChamberMaster//Event Calendar 2.0//EN
METHOD:PUBLISH
X-PUBLISHED-TTL:P3D
REFRESH-INTERVAL:P3D
CALSCALE:GREGORIAN
BEGIN:VEVENT
DTSTART:20190706T230000Z
DTEND:20190707T060000Z
X-MICROSOFT-CDO-ALLDAYEVENT:FALSE
SUMMARY:South Coast Fireworks Extravaganza
DESCRIPTION:The most highly anticipated event on the South Coast   the Point Arena Street Fair and Fireworks Celebration   will occur July 6\, 2019!  Join us for food\, fun and the largest display of fireworks in the region in beautiful Arena Cove!\n\n \n\nFestivities kick off at 4:00 pm with a street fair including a wide variety of food & drink\, live music\, arts and crafts\, and activities for the kids! \n\nThis year's band lineup includes: \n\n\n	Collectivity\n	Raw Wisdom\n	Middle Children\n	JJ Mulekat\n\n\nThe fireworks show by Devastating Pyrotechnics will explode into the night sky starting at dark!\n\nParking is limited/Shuttle bus available. Additional parking at City Hall (with shuttle service to the pier).\n\nPlease no pets.
X-ALT-DESC;FMTTYPE=text/html:<p><span style="color:inherit\; font-family:inherit">The most highly anticipated event on the South Coast &ndash\; the Point Arena Street Fair and Fireworks Celebration &ndash\; will occur July 6\, 2019!&nbsp\; Join us for food\, fun and the largest display of fireworks in the region in beautiful Arena Cove!</span><br />\n&nbsp\;</p>\n\n<p><span style="color:inherit\; font-family:inherit">Festivities kick off at 4:00 pm with a street fair including a wide variety of food &amp\; drink\, live music\, arts and crafts\, and activities for the kids!&nbsp\;</span></p>\n\n<p><span style="color:inherit\; font-family:inherit">This year&#39\;s band lineup includes:&nbsp\;</span></p>\n\n<ul>\n	<li><span style="color:inherit\; font-family:inherit">Collectivity</span></li>\n	<li><span style="color:inherit\; font-family:inherit">Raw Wisdom</span></li>\n	<li><span style="color:inherit\; font-family:inherit">Middle Children</span></li>\n	<li><span style="color:inherit\; font-family:inherit">JJ Mulekat</span></li>\n</ul>\n\n<p><span style="color:inherit\; font-family:inherit">The fireworks show by Devastating Pyrotechnics will explode into the night sky starting at dark!</span></p>\n\n<p><span style="color:inherit\; font-family:inherit">Parking is limited/Shuttle bus available. Additional parking at City Hall (with shuttle service to the pier).</span></p>\n\n<p>Please no pets.</p>\n
LOCATION:
UID:e.2883.11689
SEQUENCE:3
DTSTAMP:20260422T080743Z
URL:http://mendocinocoast.smartcms.site/events/details/point-arena-fireworks-extravaganza-11689
END:VEVENT

END:VCALENDAR
