BEGIN:VCALENDAR
VERSION:2.0
PRODID:-//ChamberMaster//Event Calendar 2.0//EN
METHOD:PUBLISH
X-PUBLISHED-TTL:P3D
REFRESH-INTERVAL:P3D
CALSCALE:GREGORIAN
BEGIN:VEVENT
DTSTART:20180713T210000Z
DTEND:20180713T223000Z
X-MICROSOFT-CDO-ALLDAYEVENT:FALSE
SUMMARY:Poetry Writing Workshop
DESCRIPTION:Poetry Writing Workshops include samples of the various styles and techniques of poetry writing\, displays of published works\, in-session writing exercises along with readings and discussions of individual works produced during the workshops.
X-ALT-DESC;FMTTYPE=text/html:Poetry Writing Workshops include samples of the various styles and techniques of poetry writing\, displays of published works\, in-session writing exercises along with readings and discussions of individual works produced during the workshops.
LOCATION:Fort Bragg Library 499 Laurel St Fort Bragg\, CA 95437
UID:e.2883.9083
SEQUENCE:3
DTSTAMP:20260423T040514Z
URL:http://mendocinocoast.smartcms.site/events/details/poetry-writing-workshop-9083
END:VEVENT

END:VCALENDAR
