BEGIN:VCALENDAR
VERSION:2.0
PRODID:-//ChamberMaster//Event Calendar 2.0//EN
METHOD:PUBLISH
X-PUBLISHED-TTL:P3D
REFRESH-INTERVAL:P3D
CALSCALE:GREGORIAN
BEGIN:VEVENT
DTSTART:20181214T220000Z
DTEND:20181214T233000Z
X-MICROSOFT-CDO-ALLDAYEVENT:FALSE
SUMMARY:Poetry Writing Workshop
DESCRIPTION:Poetry writing is often referred to as the "effort to provide insight into the human spirit". It encourages us to free our imaginations and express the human spirit in our own unique style. Poetry Writing Workshops include samples of the various styles and techniques of poetry writing\, displays of published works\, in-session writing exercises along with readings and discussions of individual works produced during the workshops. Join us every second* Friday of the month\, 2-3:30 pm\, to find your hidden poet within! Workshops are free. All ages are welcome.
X-ALT-DESC;FMTTYPE=text/html:Poetry writing is often referred to as the &ldquo\;effort to provide insight into the human spirit&rdquo\;. It encourages us to free our imaginations and express the human spirit in our own unique style. Poetry Writing Workshops include samples of the various styles and techniques of poetry writing\, displays of published works\, in-session writing exercises along with readings and discussions of individual works produced during the workshops. Join us every second* Friday of the month\, 2-3:30 pm\, to find your hidden poet within! Workshops are free. All ages are welcome.
LOCATION:Fort Bragg Library 499 E Laurel St Fort Bragg\, CA 95437
UID:e.2883.10421
SEQUENCE:3
DTSTAMP:20260422T192847Z
URL:http://mendocinocoast.smartcms.site/events/details/poetry-writing-workshop-12-14-2018-10421
END:VEVENT

END:VCALENDAR
