BEGIN:VCALENDAR
VERSION:2.0
PRODID:-//ChamberMaster//Event Calendar 2.0//EN
METHOD:PUBLISH
X-PUBLISHED-TTL:P3D
REFRESH-INTERVAL:P3D
CALSCALE:GREGORIAN
BEGIN:VEVENT
DTSTART:20181012T210000Z
DTEND:20181012T223000Z
X-MICROSOFT-CDO-ALLDAYEVENT:FALSE
SUMMARY:Poetry Writing Workshop
DESCRIPTION:Poetry Writing Workshops include samples of the various styles and techniques of poetry writing\, displays of published works\, in-session writing exercises along with readings and discussions of individual works produced during the workshops. Join us every second* Friday of the month\, 2-3:30 pm\, to find your hidden poet within! Workshops are free. All ages are welcome.
X-ALT-DESC;FMTTYPE=text/html:Poetry Writing Workshops include samples of the various styles and techniques of poetry writing\, displays of published works\, in-session writing exercises along with readings and discussions of individual works produced during the workshops. Join us every second* Friday of the month\, 2-3:30 pm\, to find your hidden poet within! Workshops are free. All ages are welcome.
LOCATION:Fort Bragg Library 499 E Laurel St Fort Bragg\, CA
UID:e.2883.10285
SEQUENCE:3
DTSTAMP:20260422T225229Z
URL:http://mendocinocoast.smartcms.site/events/details/poetry-writing-workshop-10-12-2018-10285
END:VEVENT

END:VCALENDAR
