BEGIN:VCALENDAR
VERSION:2.0
PRODID:-//ChamberMaster//Event Calendar 2.0//EN
METHOD:PUBLISH
X-PUBLISHED-TTL:P3D
REFRESH-INTERVAL:P3D
CALSCALE:GREGORIAN
BEGIN:VEVENT
DTSTART:20180810T210000Z
DTEND:20180810T223000Z
X-MICROSOFT-CDO-ALLDAYEVENT:FALSE
SUMMARY:Poetry Writing Workshop
DESCRIPTION:FREE workshop for adults. Writing prompts\, free writes\, voice experiments. Celebrate and think about the art of poetry with other writers. Try new forms and discuss the qualities and limitations of each. Your inner inkwell is waiting for the quill.
X-ALT-DESC;FMTTYPE=text/html:FREE workshop for adults. Writing prompts\, free writes\, voice experiments. Celebrate and think about the art of poetry with other writers. Try new forms and discuss the qualities and limitations of each. Your inner inkwell is waiting for the quill.
LOCATION:Fort Bragg Library 499 E Laurel St Fort Bragg\, CA 95437
UID:e.2883.9150
SEQUENCE:3
DTSTAMP:20260423T022905Z
URL:http://mendocinocoast.smartcms.site/events/details/poetry-writing-workshop-08-10-2018-9150
END:VEVENT

END:VCALENDAR
