BEGIN:VCALENDAR
VERSION:2.0
PRODID:-//ChamberMaster//Event Calendar 2.0//EN
METHOD:PUBLISH
X-PUBLISHED-TTL:P3D
REFRESH-INTERVAL:P3D
CALSCALE:GREGORIAN
BEGIN:VEVENT
DTSTART:20240314T220000Z
DTEND:20240314T233000Z
X-MICROSOFT-CDO-ALLDAYEVENT:FALSE
SUMMARY:Poetry Writing Workshop
DESCRIPTION:Come find your inner poet!
X-ALT-DESC;FMTTYPE=text/html:Come find your inner poet!
LOCATION:Fort Bragg Branch Library\, 499 E Laurel St\, Fort Bragg
UID:e.2883.22939
SEQUENCE:3
DTSTAMP:20260420T085634Z
URL:http://mendocinocoast.smartcms.site/events/details/poetry-writing-workshop-03-14-2024-22939
END:VEVENT

END:VCALENDAR
