BEGIN:VCALENDAR
VERSION:2.0
PRODID:-//ChamberMaster//Event Calendar 2.0//EN
METHOD:PUBLISH
X-PUBLISHED-TTL:P3D
REFRESH-INTERVAL:P3D
CALSCALE:GREGORIAN
BEGIN:VEVENT
DTSTART:20190308T020000Z
DTEND:20190308T040000Z
X-MICROSOFT-CDO-ALLDAYEVENT:FALSE
SUMMARY:Poetry Open Mic
DESCRIPTION:Mark your calendars! Every First Thursday of the month is Poetry Open Mic at Fort Bragg Library\, 6-8 pm. All ages welcome. Come to read your original poetry aloud\, or maybe other authors' work you are moved to share. Come to listen\, come as moral support\, or just come as you are.
X-ALT-DESC;FMTTYPE=text/html:Mark your calendars! Every First Thursday of the month is Poetry Open Mic at Fort Bragg Library\, 6-8 pm. All ages welcome. Come to read your original poetry aloud\, or maybe other authors&#39\; work you are moved to share. Come to listen\, come as moral support\, or just come as you are.
LOCATION:Fort Bragg Library 499 E Laurel St Fort Bragg\, CA 95437
UID:e.2883.11309
SEQUENCE:3
DTSTAMP:20260422T143840Z
URL:http://mendocinocoast.smartcms.site/events/details/poetry-open-mic-03-07-2019-11309
END:VEVENT

END:VCALENDAR
