BEGIN:VCALENDAR
VERSION:2.0
PRODID:-//ChamberMaster//Event Calendar 2.0//EN
METHOD:PUBLISH
X-PUBLISHED-TTL:P3D
REFRESH-INTERVAL:P3D
CALSCALE:GREGORIAN
BEGIN:VEVENT
DTSTART:20190208T020000Z
DTEND:20190208T040000Z
X-MICROSOFT-CDO-ALLDAYEVENT:FALSE
SUMMARY:Poetry Open Mic
DESCRIPTION:Come to read your original poetry aloud\, or maybe other authors' work you are moved to share. Come to listen\, come as moral support\, or just come as you are.
X-ALT-DESC;FMTTYPE=text/html:Come to read your original poetry aloud\, or maybe other authors&rsquo\; work you are moved to share. Come to listen\, come as moral support\, or just come as you are.
LOCATION:Fort Bragg Library 499 E Laurel St Fort Bragg\, CA 95437
UID:e.2883.10535
SEQUENCE:3
DTSTAMP:20260422T161741Z
URL:http://mendocinocoast.smartcms.site/events/details/poetry-open-mic-02-07-2019-10535
END:VEVENT

END:VCALENDAR
