BEGIN:VCALENDAR
VERSION:2.0
PRODID:-//ChamberMaster//Event Calendar 2.0//EN
METHOD:PUBLISH
X-PUBLISHED-TTL:P3D
REFRESH-INTERVAL:P3D
CALSCALE:GREGORIAN
BEGIN:VEVENT
DTSTART:20180425T230000Z
DTEND:20180426T000000Z
X-MICROSOFT-CDO-ALLDAYEVENT:FALSE
SUMMARY:Plant Giveaway & Exchange
DESCRIPTION:Diversify your garden! Bring your extra vegetable and flower starts and swap them for ones you don't have.
X-ALT-DESC;FMTTYPE=text/html:Diversify your garden! Bring your extra vegetable and flower starts and swap them for ones you don&rsquo\;t have.
LOCATION:Fort Bragg Library 499 E Laurel St Fort Bragg
UID:e.2883.5649
SEQUENCE:3
DTSTAMP:20260423T091239Z
URL:http://mendocinocoast.smartcms.site/events/details/plant-giveaway-exchange-5649
END:VEVENT

END:VCALENDAR
