BEGIN:VCALENDAR
VERSION:2.0
PRODID:-//ChamberMaster//Event Calendar 2.0//EN
METHOD:PUBLISH
X-PUBLISHED-TTL:P3D
REFRESH-INTERVAL:P3D
CALSCALE:GREGORIAN
BEGIN:VEVENT
DTSTART:20191031T180000Z
DTEND:20191201T000000Z
X-MICROSOFT-CDO-ALLDAYEVENT:FALSE
SUMMARY:PHOTOGRAPHY EXHIBITION - JONATHAN PAZER - Abstract & Pinhole Photography.
DESCRIPTION:"Seven Dimensions of the Unseen & Other Work"\, photography exhibit by Jonathan Pazer. Includes both pinhole landscapes and colorful abstracts\, and ekphrastic poetry that was written for individual pieces\, a selection of which were collected in a book of poetry and photos\, also available at the show. On View: 10/31 - 11/30/2019. SPECIAL RECEPTION: 11/30/19\, 3pm-5pm\, & Artist Talk 4pm. http://bit.ly/33gb8xM
X-ALT-DESC;FMTTYPE=text/html:&quot\;Seven Dimensions of the Unseen &amp\; Other Work&quot\;\, photography exhibit by Jonathan Pazer. Includes both pinhole landscapes and colorful abstracts\, and ekphrastic poetry that was written for individual pieces\, a selection of which were collected in a book of poetry and photos\, also available at the show. On View: 10/31 - 11/30/2019. SPECIAL RECEPTION: 11/30/19\, 3pm-5pm\, &amp\; Artist Talk 4pm. http://bit.ly/33gb8xM
LOCATION:Mendocino Art Center 45200 Little Lake Street Mendocino\, CA 95460
UID:e.2883.12444
SEQUENCE:3
DTSTAMP:20260422T011814Z
URL:http://mendocinocoast.smartcms.site/events/details/photography-exhibition-jonathan-pazer-abstract-pinhole-photography-12444
END:VEVENT

END:VCALENDAR
