BEGIN:VCALENDAR
VERSION:2.0
PRODID:-//ChamberMaster//Event Calendar 2.0//EN
METHOD:PUBLISH
X-PUBLISHED-TTL:P3D
REFRESH-INTERVAL:P3D
CALSCALE:GREGORIAN
BEGIN:VEVENT
DTSTART:20180616T180000Z
DTEND:20180616T180000Z
X-MICROSOFT-CDO-ALLDAYEVENT:FALSE
SUMMARY:Pet Adoptions at the Gardens
DESCRIPTION:Have you noticed more furry friends strutting about the Gardens in colorful leis and bandanas lately? That may be due to this spring?s frequent visits from the Mendocino Coast Humane Society (MCHS). The MCHS Mobile Adoption Van will be at Mendocino Coast Botanical Gardens with a bunch of adorable adoptable animals! They will be at the Gardens on the 3rd Saturday of each month March through October with a few furry friends looking for a place to call home.\n\nNINE PETS WERE ADOPTED at the 2016 Pet Adoption Days... let's keep up the good work and find some wonderful homes for more loving adoptables!!!
X-ALT-DESC;FMTTYPE=text/html:<p style="margin: 0px\; border: 0px none\; padding: 0px\; font-family: Verdana\, Arial\; font-size: 11px\;"><span style="margin: 0px\; font-size: medium\;">Have you noticed more furry friends strutting about the Gardens in colorful leis and bandanas lately? That may be due to this spring?s frequent visits from the&nbsp\;<a href="http://www.mendocinohumane.org/" style="margin: 0px\; color: rgb(0\, 0\, 153)\; text-decoration: none\;" target="_blank">Mendocino Coast Humane Society</a>&nbsp\;(MCHS). The MCHS Mobile Adoption Van will be at&nbsp\;Mendocino Coast Botanical Gardens&nbsp\;with a bunch of adorable adoptable animals! They will be at the Gardens on the 3rd Saturday of each month March through October with a few furry friends looking for a place to call home.</span></p>\n\n<p style="margin: 0px\; border: 0px none\; padding: 0px\; font-family: Verdana\, Arial\; font-size: 11px\;"><span style="margin: 0px\; font-size: medium\;"><strong style="margin: 0px\;">NINE PETS WERE ADOPTED at the 2016 Pet Adoption Days... let's keep up the good work and find some wonderful homes for more loving&nbsp\;adoptables!!!</strong></span></p>\n
LOCATION:Mendocino Coast Botanical Gardens
UID:e.2883.1520
SEQUENCE:3
DTSTAMP:20260423T060007Z
URL:http://mendocinocoast.smartcms.site/events/details/pet-adoptions-at-the-gardens-06-16-2018-1520
END:VEVENT

END:VCALENDAR
