BEGIN:VCALENDAR
VERSION:2.0
PRODID:-//ChamberMaster//Event Calendar 2.0//EN
METHOD:PUBLISH
X-PUBLISHED-TTL:P3D
REFRESH-INTERVAL:P3D
CALSCALE:GREGORIAN
BEGIN:VEVENT
DTSTART:20170124T190100Z
DTEND:20170125T020000Z
X-MICROSOFT-CDO-ALLDAYEVENT:FALSE
SUMMARY:Pentimento
DESCRIPTION:PARTNERS GALLERYPENTIMENTOFEBRUARY 2 â€“ 27\, 2017FIRST FRIDAY RECEPTION\, FEB 3\, 5-8PMÂ Pentimento in painting is the emergence of an underlying image\, especially one that has become visible when the top layer of paint has become transparent\, perhaps with age\, providing evidence of revision by the artist. The Italian word literally means â€œCorrection.â€Â  More broadly it can mean the revelation of an underlying truth or reality.In this exhibition Partners artists explore this intriguing artistic phenomenon in a variety of media. The viewer can apply his or her archaeological eye to painted canvas\, scraped or chiseled impasto\, covered and layered prints and repurposed objects.Â Partners Gallery is located at 335 N. Franklin Street in Fort Bragg and is open Wednesday through Monday 10 am to 5 pm and Sundays 10 am to 4 pm. 707 962-0233Â  http://www.partnersgallery.com
X-ALT-DESC;FMTTYPE=text/html:<p>PARTNERS GALLERY</p><p>PENTIMENTO</p><p>FEBRUARY 2 â€“ 27\, 2017</p><p>FIRST FRIDAY RECEPTION\, FEB 3\, 5-8PM</p><p>Â </p><p>Pentimento in painting is the emergence of an underlying image\, especially one that has become visible when the top layer of paint has become transparent\, perhaps with age\, providing evidence of revision by the artist. The Italian word literally means â€œCorrection.â€Â  More broadly it can mean the revelation of an underlying truth or reality.</p><p>In this exhibition Partners artists explore this intriguing artistic phenomenon in a variety of media. The viewer can apply his or her archaeological eye to painted canvas\, scraped or chiseled impasto\, covered and layered prints and repurposed objects.</p><p>Â </p><p>Partners Gallery is located at 335 N. Franklin Street in Fort Bragg and is open Wednesday through Monday 10 am to 5 pm and Sundays 10 am to 4 pm. 707 962-0233Â  <a href="http://www.partnersgallery.com">http://www.partnersgallery.com</a>&gt\;</p>
LOCATION:Partners Gallery Fort Bragg
UID:e.2883.1098
SEQUENCE:3
DTSTAMP:20260424T105838Z
URL:http://mendocinocoast.smartcms.site/events/details/pentimento-01-24-2017-1098
END:VEVENT

END:VCALENDAR
