BEGIN:VCALENDAR
VERSION:2.0
PRODID:-//ChamberMaster//Event Calendar 2.0//EN
METHOD:PUBLISH
X-PUBLISHED-TTL:P3D
REFRESH-INTERVAL:P3D
CALSCALE:GREGORIAN
BEGIN:VEVENT
DTSTART:20190831T170000Z
DTEND:20190901T230000Z
X-MICROSOFT-CDO-ALLDAYEVENT:FALSE
SUMMARY:Paul Bunyan Days Crafts Fair
DESCRIPTION:Sponsored by Soroptimist International of Fort Bragg the Fair will have 75 craft vendors offering a wide variety of handmade items\, 3 food purveyors and 3 Raffle bags\, each filled with donations from the vendors worth over $200\; tickets available at the Soroptimist booth at the front of the fair.
X-ALT-DESC;FMTTYPE=text/html:Sponsored by Soroptimist International of Fort Bragg the Fair will have 75 craft vendors offering a wide variety of handmade items\, 3 food purveyors and 3 Raffle bags\, each filled with donations from the vendors worth over $200\; tickets available at the Soroptimist booth at the front of the fair.
LOCATION:Starr Community Center North Field 300 South Lincoln at the end of Maple Street\, Fort Bragg
UID:e.2883.11954
SEQUENCE:3
DTSTAMP:20260422T043303Z
URL:http://mendocinocoast.smartcms.site/events/details/paul-bunyan-days-crafts-fair-11954
END:VEVENT

END:VCALENDAR
