BEGIN:VCALENDAR
VERSION:2.0
PRODID:-//ChamberMaster//Event Calendar 2.0//EN
METHOD:PUBLISH
X-PUBLISHED-TTL:P3D
REFRESH-INTERVAL:P3D
CALSCALE:GREGORIAN
BEGIN:VEVENT
DTSTART:20200214T020000Z
DTEND:20200214T050000Z
X-MICROSOFT-CDO-ALLDAYEVENT:FALSE
SUMMARY:Patron Tequila Dinner
DESCRIPTION:Joined famed Tequila distiller and the Heritage House Resort & Spa for an innovative and 'spirited" evening of great tequila and a fabulously paired\, six course dinner. Contact us for more information at info@heritagehouseresort.com or by calling 707-202-9000
X-ALT-DESC;FMTTYPE=text/html:Joined famed Tequila distiller and the Heritage House Resort &amp\; Spa for an innovative and &#39\;spirited&quot\; evening of great tequila and a fabulously paired\, six course dinner. Contact us for more information at info@heritagehouseresort.com or by calling 707-202-9000
LOCATION:Heritage House Resort & Spa 5200 N Hwy 1 Little Liver\, CA 95456
UID:e.2883.12836
SEQUENCE:3
DTSTAMP:20260421T200955Z
URL:http://mendocinocoast.smartcms.site/events/details/patron-tequila-dinner-12836
END:VEVENT

END:VCALENDAR
