BEGIN:VCALENDAR
VERSION:2.0
PRODID:-//ChamberMaster//Event Calendar 2.0//EN
METHOD:PUBLISH
X-PUBLISHED-TTL:P3D
REFRESH-INTERVAL:P3D
CALSCALE:GREGORIAN
BEGIN:VEVENT
DTSTART;VALUE=DATE:20160726
DTEND;VALUE=DATE:20160727
TRANSP:TRANSPARENT
X-MICROSOFT-CDO-ALLDAYEVENT:TRUE
SUMMARY:Paths to Publishing Panel
DESCRIPTION:Please join the Mendocino Coast Writers Conference at a free Paths to Publishing panel\, Saturday\, August 6\, 1 pm\, at Mendocino College-Coastal Campus\, 1211 Del Mar Drive\, Fort Bragg. Learn how debut authors Heather Mackey\, Hi-Dong Chai\, and Marian Palaia launched their books.
X-ALT-DESC;FMTTYPE=text/html:<p>Please join the Mendocino Coast Writers Conference at a <strong>free</strong> Paths to Publishing panel\, Saturday\, August 6\, 1 pm\, at Mendocino College-Coastal Campus\, 1211 Del Mar Drive\, Fort Bragg. Learn how debut authors Heather Mackey\, Hi-Dong Chai\, and Marian Palaia launched their books.</p>
LOCATION:Mendocino College - Mendocino Coastal Campus Fort Bragg
UID:e.2883.981
SEQUENCE:3
DTSTAMP:20260424T210142Z
URL:http://mendocinocoast.smartcms.site/events/details/paths-to-publishing-panel-07-26-2016-981
END:VEVENT

END:VCALENDAR
