BEGIN:VCALENDAR
VERSION:2.0
PRODID:-//ChamberMaster//Event Calendar 2.0//EN
METHOD:PUBLISH
X-PUBLISHED-TTL:P3D
REFRESH-INTERVAL:P3D
CALSCALE:GREGORIAN
BEGIN:VEVENT
DTSTART:20190824T190000Z
DTEND:20190824T230000Z
X-MICROSOFT-CDO-ALLDAYEVENT:FALSE
SUMMARY:Party with MendoParks
DESCRIPTION:Party with MendoParks at the Mendocino Headlands State Park on Saturday August 24th from noon-4:00pm. Enjoy a day in the park with live music\, interpretive activities celebrating the natural and cultural history of Mendocino-area State Parks\, games\, raffles\, shopping\, beer & wine--- and delicious food\, of course! All proceeds benefit our State Parks in Mendocino County. Free event\, kid-friendly. BBQ\, live music\, beer & wine\, interpretive activities celebrating the natural & cultural history of Mendocino-area State Parks\, games\, raffles\, and vendors. Since 1984\, the MendoParks has supported State Parks in Mendocino County through interpretive and maintenance programs\, park improvement projects\, and operation of Visitor Centers (Ford House\, MacKerricher\, Van Damme\, Greenwood/Elk). Your support is needed to help bridge the gap in funding needed to keep our parks safe and accessible. All proceeds from this event directly benefit State Parks in Mendocino County. For more information on MendoParks\, our work\, and how you can support\, please visit www.mendoparks.org
X-ALT-DESC;FMTTYPE=text/html:Party with MendoParks at the Mendocino Headlands State Park on Saturday August 24th from noon-4:00pm. Enjoy a day in the park with live music\, interpretive activities celebrating the natural and cultural history of Mendocino-area State Parks\, games\, raffles\, shopping\, beer &amp\; wine--- and delicious food\, of course! All proceeds benefit our State Parks in Mendocino County. Free event\, kid-friendly. BBQ\, live music\, beer &amp\; wine\, interpretive activities celebrating the natural &amp\; cultural history of Mendocino-area State Parks\, games\, raffles\, and vendors. Since 1984\, the MendoParks has supported State Parks in Mendocino County through interpretive and maintenance programs\, park improvement projects\, and operation of Visitor Centers (Ford House\, MacKerricher\, Van Damme\, Greenwood/Elk). Your support is needed to help bridge the gap in funding needed to keep our parks safe and accessible. All proceeds from this event directly benefit State Parks in Mendocino County. For more information on MendoParks\, our work\, and how you can support\, please visit www.mendoparks.org
LOCATION:Mendocino Headlands State Park\, 45035 Main Street\, Mendocino
UID:e.2883.11849
SEQUENCE:3
DTSTAMP:20260422T062940Z
URL:http://mendocinocoast.smartcms.site/events/details/party-with-mendoparks-11849
END:VEVENT

END:VCALENDAR
