BEGIN:VCALENDAR
VERSION:2.0
PRODID:-//ChamberMaster//Event Calendar 2.0//EN
METHOD:PUBLISH
X-PUBLISHED-TTL:P3D
REFRESH-INTERVAL:P3D
CALSCALE:GREGORIAN
BEGIN:VEVENT
DTSTART:20171005T170000Z
DTEND:20171031T000000Z
X-MICROSOFT-CDO-ALLDAYEVENT:FALSE
SUMMARY:Pamela Hahn: An Almanac\; Encaustic Paintings and Mixed Media Collages
DESCRIPTION:Hahn's work is inspired by 19th century Farmer's Almanacs handed down through her family. The almanacs promised\, "New\, Useful and Entertaining Matter\," which included among other things\, astrological calculations\, weather predictions\, poetry\, and tips for farmers and housewives. The yearly publications provide a glimpse into life around 150 years ago that the artist found fascinating and touching. The titles of the pieces are direct quotes from the almanacs\, for example: "No Time To Loose Now\," "Some Sun Some Showers\," "The Small Fruits\," and "Change in the Weather." Hahn incorporates oil\, graphite\, pastel\, and ink with her wax technique to achieve rich and varied surfaces. The collages incorporate some original material from an already tattered almanac. There is First Friday Reception October 6 from 5-8pm. Wine is being poured by Handley Cellars. The gallery joins Mendocino County Celebrates American Craft Week with a demonstration by Carolyn Carleton of the creation of her felt boxes on Saturday October 7th\, from 1 to 2pm.
X-ALT-DESC;FMTTYPE=text/html:Hahn&rsquo\;s work is inspired by 19th century Farmer&rsquo\;s Almanacs handed down through her family. The almanacs promised\, &ldquo\;New\, Useful and Entertaining Matter\,&rdquo\; which included among other things\, astrological calculations\, weather predictions\, poetry\, and tips for farmers and housewives. The yearly publications provide a glimpse into life around 150 years ago that the artist found fascinating and touching. The titles of the pieces are direct quotes from the almanacs\, for example: &ldquo\;No Time To Loose Now\,&rdquo\; &ldquo\;Some Sun Some Showers\,&rdquo\; &ldquo\;The Small Fruits\,&rdquo\; and &ldquo\;Change in the Weather.&rdquo\; Hahn incorporates oil\, graphite\, pastel\, and ink with her wax technique to achieve rich and varied surfaces. The collages incorporate some original material from an already tattered almanac. There is First Friday Reception October 6 from 5-8pm. Wine is being poured by Handley Cellars. The gallery joins Mendocino County Celebrates American Craft Week with a demonstration by Carolyn Carleton of the creation of her felt boxes on Saturday October 7th\, from 1 to 2pm.
LOCATION:Partners Gallery 335 N. Franklin St\, near Laurel Fort Bragg\, CA
UID:e.2883.4429
SEQUENCE:3
DTSTAMP:20260423T201411Z
URL:http://mendocinocoast.smartcms.site/events/details/pamela-hahn-an-almanac-encaustic-paintings-and-mixed-media-collages-4429
END:VEVENT

END:VCALENDAR
