BEGIN:VCALENDAR
VERSION:2.0
PRODID:-//ChamberMaster//Event Calendar 2.0//EN
METHOD:PUBLISH
X-PUBLISHED-TTL:P3D
REFRESH-INTERVAL:P3D
CALSCALE:GREGORIAN
BEGIN:VEVENT
DTSTART:20171126T040000Z
DTEND:20171126T060000Z
X-MICROSOFT-CDO-ALLDAYEVENT:FALSE
SUMMARY:Outside Mullingar
DESCRIPTION:In this delightfully quirky love story\, set in contemporary rural Ireland\, two middle-aged farmers\, Anthony and Rosemary\, must overcome a land feud and their own clumsiness to find happiness. This romantic comedy by the author of Doubt and Moonstruck is lyrical\, poetic\, and utterly winsome.\n\n"OUTSIDE MULLINGAR is a valentine to the wonder and weirdness of love."  New York Daily News\n\n\n\n\nNovember 2nd to December 3rd\n\nPerformances Thurs\, Fri\, Sat at 8 PM\n\nWith Sunday matinees - 11/26 thru 12/3. Starting time: 2 PM.
X-ALT-DESC;FMTTYPE=text/html:<pre>\n<em>In this delightfully quirky love story\, set in contemporary rural Ireland\, two middle-aged farmers\, Anthony and Rosemary\, must overcome a land feud and their own clumsiness to find happiness. This romantic comedy by the author of Doubt and Moonstruck is lyrical\, poetic\, and utterly winsome.\n\n&ldquo\;OUTSIDE MULLINGAR is a valentine to the wonder and weirdness of love.&rdquo\; &mdash\;New York Daily News</em></pre>\n<br />\n<br />\n<strong>November 2nd to December 3rd<br />\nPerformances Thurs\, Fri\, Sat at 8 PM</strong><br />\n<strong>With&nbsp\;</strong><strong>Sunday matinees - 11/26 thru 12/3. Starting time: 2 PM.</strong>
LOCATION:Mendocino Theatre Company - corner of Kasten and Little Lake streets
UID:e.2883.4478
SEQUENCE:3
DTSTAMP:20260423T191051Z
URL:http://mendocinocoast.smartcms.site/events/details/outside-mullingar-11-25-2017-4478
END:VEVENT

END:VCALENDAR
