BEGIN:VCALENDAR
VERSION:2.0
PRODID:-//ChamberMaster//Event Calendar 2.0//EN
METHOD:PUBLISH
X-PUBLISHED-TTL:P3D
REFRESH-INTERVAL:P3D
CALSCALE:GREGORIAN
BEGIN:VEVENT
DTSTART:20160830T010000Z
DTEND:20160829T070000Z
X-MICROSOFT-CDO-ALLDAYEVENT:FALSE
SUMMARY:Otsuchi Cultural Exchange First Friday Event
DESCRIPTION:Enjoy a taste of Japanese culture and cuisine!Â At 6:30pm Learn about the student exchange program and enjoy somen noodles\, senbei\, inari\, Japanese popcorn and green tea.Â At 7:30pm View the hilarious Japanese move\, "The Handsome Suit" (English subtitles)Â Benefits the Student Cultural Exchange ProgramÂ Tickets are $10 in advance (Available at Harvest Market in Ft. Bragg and the Fort Bragg Chamber of Commerce. They are $12 at the door\, and kids under 12 yo are free.Â At Town Hall in Fort Bragg on N. Main St.Â For more info call Sharon Davis at (707) 813-7574 or e-mail chamber@mcn.orgÂ
X-ALT-DESC;FMTTYPE=text/html:<p>Enjoy a taste of Japanese culture and cuisine!</p><p>Â </p><p>At 6:30pm Learn about the student exchange program and enjoy somen noodles\, senbei\, inari\, Japanese popcorn and green tea.</p><p>Â </p><p>At 7:30pm View the hilarious Japanese move\, "The Handsome Suit" (English subtitles)</p><p>Â </p><p>Benefits the Student Cultural Exchange Program</p><p>Â </p><p>Tickets are $10 in advance (Available at Harvest Market in Ft. Bragg and the Fort Bragg Chamber of Commerce. They are $12 at the door\, and kids under 12 yo are free.</p><p>Â </p><p>At Town Hall in Fort Bragg on N. Main St.</p><p>Â </p><p>For more info call Sharon Davis at (707) 813-7574 or e-mail chamber@mcn.org</p><p>Â </p>
LOCATION:Town Hall Fort Bragg
UID:e.2883.1008
SEQUENCE:3
DTSTAMP:20260424T194006Z
URL:http://mendocinocoast.smartcms.site/events/details/otsuchi-cultural-exchange-first-friday-event-08-29-2016-1008
END:VEVENT

END:VCALENDAR
