BEGIN:VCALENDAR
VERSION:2.0
PRODID:-//ChamberMaster//Event Calendar 2.0//EN
METHOD:PUBLISH
X-PUBLISHED-TTL:P3D
REFRESH-INTERVAL:P3D
CALSCALE:GREGORIAN
BEGIN:VEVENT
DTSTART:20181014T210000Z
DTEND:20181014T223000Z
X-MICROSOFT-CDO-ALLDAYEVENT:FALSE
SUMMARY:Origami Plants Workshop with Kathy Silva
DESCRIPTION:Have fun making origami plants while learning about our endangered coastal dudleya farinosa plants. Adults and children are welcome. Children under 10 must be accompanied by an adult. All supplies provided.
X-ALT-DESC;FMTTYPE=text/html:Have fun making origami plants while learning about our endangered coastal dudleya farinosa plants. Adults and children are welcome. Children under 10 must be accompanied by an adult. All supplies provided.
LOCATION:Fort Bragg Library 499 E Laurel St Fort Bragg\, CA
UID:e.2883.10286
SEQUENCE:3
DTSTAMP:20260422T225209Z
URL:http://mendocinocoast.smartcms.site/events/details/origami-plants-workshop-with-kathy-silva-10286
END:VEVENT

END:VCALENDAR
