BEGIN:VCALENDAR
VERSION:2.0
PRODID:-//ChamberMaster//Event Calendar 2.0//EN
METHOD:PUBLISH
X-PUBLISHED-TTL:P3D
REFRESH-INTERVAL:P3D
CALSCALE:GREGORIAN
BEGIN:VEVENT
DTSTART:20190428T220000Z
DTEND:20190429T000000Z
X-MICROSOFT-CDO-ALLDAYEVENT:FALSE
SUMMARY:Opus Chamber Music Series - James Rodseth & Theresa Keene
DESCRIPTION:Trumpeter James Rodseth performs accessible\, fun\, and interesting works for trumpet and piano\, including sonatas by Kent Kennan and Eric Ewazen\, Caprice by Joseph Turrin\, and Legend by Georges Enesco some of the best music composed for trumpet and piano in the 20th Century. A Mendocino native\, Mr. Rodseth is a long time member of the Mendocino Music Festival Orchestra and principal trumpet of the Sacramento Philharmonic. He will be joined by acclaimed concert pianist Theresa Keene. Ms. Keene is a graduate of Eastman School of Music and San Francisco Conservatory of Music and now principal keyboard instrumentalist with Sacramento Philharmonic Orchestra. She will perform some selections for solo piano as well as accompany Mr. Rodseth in the finale Opus concert of the 2018-19 season.
X-ALT-DESC;FMTTYPE=text/html:Trumpeter James Rodseth performs accessible\, fun\, and interesting works for trumpet and piano\, including sonatas by Kent Kennan and Eric Ewazen\, Caprice by Joseph Turrin\, and Legend by Georges Enesco&mdash\;some of the best music composed for trumpet and piano in the 20th Century. A Mendocino native\, Mr. Rodseth is a long time member of the Mendocino Music Festival Orchestra and principal trumpet of the Sacramento Philharmonic. He will be joined by acclaimed concert pianist Theresa Keene. Ms. Keene is a graduate of Eastman School of Music and San Francisco Conservatory of Music and now principal keyboard instrumentalist with Sacramento Philharmonic Orchestra. She will perform some selections for solo piano as well as accompany Mr. Rodseth in the finale Opus concert of the 2018-19 season.
LOCATION:Preston Hall 44867 Main St\, Mendocino\, CA 95460
UID:e.2883.10278
SEQUENCE:3
DTSTAMP:20260422T125653Z
URL:http://mendocinocoast.smartcms.site/events/details/opus-chamber-music-series-james-rodseth-theresa-keene-10278
END:VEVENT

END:VCALENDAR
