BEGIN:VCALENDAR
VERSION:2.0
PRODID:-//ChamberMaster//Event Calendar 2.0//EN
METHOD:PUBLISH
X-PUBLISHED-TTL:P3D
REFRESH-INTERVAL:P3D
CALSCALE:GREGORIAN
BEGIN:VEVENT
DTSTART:20180916T220000Z
DTEND:20180917T000000Z
X-MICROSOFT-CDO-ALLDAYEVENT:FALSE
SUMMARY:Opus Chamber Music Series - Hannah Addario-Berry and Jeff Anderle
DESCRIPTION:Specializing in chamber music and solo repertoire\, cellist Hannah is passionate about performing music by living composers. Jeff is a pioneer in the world of low reeds\, helping to popularize the role of the modern clarinet and bass clarinet through his innovative and performances.
X-ALT-DESC;FMTTYPE=text/html:Specializing in chamber music and solo repertoire\, cellist Hannah is passionate about performing music by living composers. Jeff is a pioneer in the world of low reeds\, helping to popularize the role of the modern clarinet and bass clarinet through his innovative and performances.
LOCATION:Preston Hall - 44867 Main St\, Mendocino\, CA 95460
UID:e.2883.9362
SEQUENCE:3
DTSTAMP:20260423T003934Z
URL:http://mendocinocoast.smartcms.site/events/details/opus-chamber-music-series-hannah-addario-berry-and-jeff-anderle-9362
END:VEVENT

END:VCALENDAR
