BEGIN:VCALENDAR
VERSION:2.0
PRODID:-//ChamberMaster//Event Calendar 2.0//EN
METHOD:PUBLISH
X-PUBLISHED-TTL:P3D
REFRESH-INTERVAL:P3D
CALSCALE:GREGORIAN
BEGIN:VEVENT
DTSTART:20190324T220000Z
DTEND:20190325T000000Z
X-MICROSOFT-CDO-ALLDAYEVENT:FALSE
SUMMARY:Opus Chamber Music Series - Anita Fetsch Felix & Miles Graber
DESCRIPTION:With their skilled and passionate musicianship\, violinist Anita Fetsch Felix and pianist Miles Graber perform music by women composers who created great works despite the cultural barriers to women in in the 19th Century. These composers include Clara Schumann\, who sacrificed her own musical career in deference to her husband's career\, and Fanny Mendelssohn\, who\, despite her prodigious talent\, was given less support for her musical endeavors than was her famous brother Felix. They will also perform works by Maria Grandval\, a French Romantic composer who achieved fame by publishing music under a male pseudonym.
X-ALT-DESC;FMTTYPE=text/html:With their skilled and passionate musicianship\, violinist Anita Fetsch Felix and pianist Miles Graber perform music by women composers who created great works despite the cultural barriers to women in in the 19th Century. These composers include Clara Schumann\, who sacrificed her own musical career in deference to her husband&#39\;s career\, and Fanny Mendelssohn\, who\, despite her prodigious talent\, was given less support for her musical endeavors than was her famous brother Felix. They will also perform works by Maria Grandval\, a French Romantic composer who achieved fame by publishing music under a male pseudonym.
LOCATION:Preston Hall 44867 Main St\, Mendocino\, CA 95460
UID:e.2883.10277
SEQUENCE:3
DTSTAMP:20260422T162602Z
URL:http://mendocinocoast.smartcms.site/events/details/opus-chamber-music-series-anita-fetsch-felix-miles-graber-10277
END:VEVENT

END:VCALENDAR
