BEGIN:VCALENDAR
VERSION:2.0
PRODID:-//ChamberMaster//Event Calendar 2.0//EN
METHOD:PUBLISH
X-PUBLISHED-TTL:P3D
REFRESH-INTERVAL:P3D
CALSCALE:GREGORIAN
BEGIN:VEVENT
DTSTART:20190217T230000Z
DTEND:20190218T010000Z
X-MICROSOFT-CDO-ALLDAYEVENT:FALSE
SUMMARY:Opus Chamber Music Series - Ami Jouant
DESCRIPTION:Come experience an intimate afternoon of "chamber music of the baroque" with Amis Jouant\, a trio of professional Early Music practitioners from the San Francisco Bay Area. Playing a m lange of trio sonatas and duos by beloved composers Bach\, Telemann and Boismortier. Amis Jouant features a variety of unusual instrumentation for viola da gamba solo\, violin\, and flute/viola da gamba\, creating rich\, unusual\, and mesmerizing music.
X-ALT-DESC;FMTTYPE=text/html:Come experience an intimate afternoon of &quot\;chamber music of the baroque&quot\; with Amis Jouant\, a trio of professional Early Music practitioners from the San Francisco Bay Area. Playing a m&eacute\;lange of trio sonatas and duos by beloved composers Bach\, Telemann and Boismortier. Amis Jouant features a variety of unusual instrumentation for viola da gamba solo\, violin\, and flute/viola da gamba\, creating rich\, unusual\, and mesmerizing music.
LOCATION:Preston Hall 44867 Main St\, Mendocino\, CA 95460
UID:e.2883.10276
SEQUENCE:3
DTSTAMP:20260422T162024Z
URL:http://mendocinocoast.smartcms.site/events/details/opus-chamber-music-series-ami-jouant-10276
END:VEVENT

END:VCALENDAR
