BEGIN:VCALENDAR
VERSION:2.0
PRODID:-//ChamberMaster//Event Calendar 2.0//EN
METHOD:PUBLISH
X-PUBLISHED-TTL:P3D
REFRESH-INTERVAL:P3D
CALSCALE:GREGORIAN
BEGIN:VEVENT
DTSTART;VALUE=DATE:20160820
DTEND;VALUE=DATE:20160821
TRANSP:TRANSPARENT
X-MICROSOFT-CDO-ALLDAYEVENT:TRUE
SUMMARY:Opus Chamber Music Concert
DESCRIPTION:The duo Matthew Miksak (bariton) and Carolyn Steinbuck (piano) will join forces again for an afternoon of German songs by Schubert\, Brahms\, and Loewe among others. Also featured are songs by internationally recogniced composer and local resident\, William Jay Sydeman. This promises to be a very special event.
X-ALT-DESC;FMTTYPE=text/html:<p>The duo Matthew Miksak (bariton) and Carolyn Steinbuck (piano) will join forces again for an afternoon of German songs by Schubert\, Brahms\, and Loewe among others. Also featured are songs by internationally recogniced composer and local resident\, William Jay Sydeman. This promises to be a very special event.</p>
LOCATION:Preston Hall Mendocino
UID:e.2883.1001
SEQUENCE:3
DTSTAMP:20260424T193302Z
URL:http://mendocinocoast.smartcms.site/events/details/opus-chamber-music-concert-08-20-2016-1001
END:VEVENT

END:VCALENDAR
