BEGIN:VCALENDAR
VERSION:2.0
PRODID:-//ChamberMaster//Event Calendar 2.0//EN
METHOD:PUBLISH
X-PUBLISHED-TTL:P3D
REFRESH-INTERVAL:P3D
CALSCALE:GREGORIAN
BEGIN:VEVENT
DTSTART;VALUE=DATE:20170422
DTEND;VALUE=DATE:20170423
TRANSP:TRANSPARENT
X-MICROSOFT-CDO-ALLDAYEVENT:TRUE
SUMMARY:Opus Chamber Music Concert
DESCRIPTION:Richard Cionco in ConcertThe Romantic program performed by Richard Cionco will be a tour de force of styles\, from the 30-minuteÂ monumental Sonata in B Minor by Franz Liszt to the exquisitely delicate miniature\, Juene filles au Jardin by Federico Mompou. Â Amongst the most well known andÂ beloved music on the program will be three Mazurka's by FredericÂ Chopin\, and Earl Wild's arrangement of Rachmaninov'sVocalise. To end\, Mr. Cionco will perform his ownÂ show-stopping transcription of Karl Tausig's transcription of Johann Strauus Jr.'s grand waltz One Lives Only Once. This "double transcribing" is rare and will prove to be a thrilling conclusion.
X-ALT-DESC;FMTTYPE=text/html:<p><span style="font-size:x-small\;">Richard Cionco in Concert</span></p><p><span style="color:#000000\;"><span style="font-family:&quot\;Times New Roman&quot\;\, Times\, serif\;"><span style="font-size:small\;">The Romantic program performed by Richard Cionco will be a tour de force of styles\, from the 30-minuteÂ monumental </span></span></span><span style="color:#000000\;"><span style="font-family:&quot\;Times New Roman&quot\;\, Times\, serif\;"><span style="font-size:small\;"><em>Sonata in B Minor</em></span></span></span><span style="color:#000000\;"> </span><span style="color:#000000\;"><span style="font-family:&quot\;Times New Roman&quot\;\, Times\, serif\;"><span style="font-size:small\;">by Franz Liszt to the exquisitely delicate miniature\, </span></span></span><span style="color:#000000\;"><span style="font-family:&quot\;Times New Roman&quot\;\, Times\, serif\;"><span style="font-size:small\;"><em>Juene filles au Jardin</em></span></span></span><span style="color:#000000\;"> </span><span style="color:#000000\;"><span style="font-family:&quot\;Times New Roman&quot\;\, Times\, serif\;"><span style="font-size:small\;">by Federico Mompou. Â Amongst the most well known andÂ beloved music on the program will be three </span></span></span><span style="color:#000000\;"><span style="font-family:&quot\;Times New Roman&quot\;\, Times\, serif\;"><span style="font-size:small\;"><em>Mazurka's </em></span></span></span><span style="color:#000000\;"><span style="font-family:&quot\;Times New Roman&quot\;\, Times\, serif\;"><span style="font-size:small\;">by FredericÂ Chopin\, and Earl Wild's arrangement of Rachmaninov's</span></span></span><span style="color:#000000\;"><span style="font-family:&quot\;Times New Roman&quot\;\, Times\, serif\;"><span style="font-size:small\;"><em>Vocalise. </em></span></span></span><span style="color:#000000\;"><span style="font-family:&quot\;Times New Roman&quot\;\, Times\, serif\;"><span style="font-size:small\;">To end\, Mr. Cionco will perform his ownÂ show-stopping transcription of Karl Tausig's transcription of Johann Strauus Jr.'s grand waltz </span></span></span><span style="color:#000000\;"><span style="font-family:&quot\;Times New Roman&quot\;\, Times\, serif\;"><span style="font-size:small\;"><em>One Lives Only Once. </em></span></span></span><span style="color:#000000\;"><span style="font-family:&quot\;Times New Roman&quot\;\, Times\, serif\;"><span style="font-size:small\;">This "double transcribing" is rare and will prove to be a thrilling conclusion.</span></span></span></p>
LOCATION:Preston Hall Mendocino
UID:e.2883.1196
SEQUENCE:3
DTSTAMP:20260424T061132Z
URL:http://mendocinocoast.smartcms.site/events/details/opus-chamber-music-concert-04-22-2017-1196
END:VEVENT

END:VCALENDAR
