BEGIN:VCALENDAR
VERSION:2.0
PRODID:-//ChamberMaster//Event Calendar 2.0//EN
METHOD:PUBLISH
X-PUBLISHED-TTL:P3D
REFRESH-INTERVAL:P3D
CALSCALE:GREGORIAN
BEGIN:VEVENT
DTSTART:20190624T020000Z
DTEND:20190624T050000Z
X-MICROSOFT-CDO-ALLDAYEVENT:FALSE
SUMMARY:Operatic Scenes
DESCRIPTION:Come enjoy great scenes from opera performed by young professionals who have come from across the United States to participate in an intensive program. This is the final presentation - scenes staged\, costumed. This is a very popular event. Tickets may be purchased at Out of this World (Mendocino) and Harvest Market in Fort Bragg.
X-ALT-DESC;FMTTYPE=text/html:Come enjoy great scenes from opera performed by young professionals who have come from across the United States to participate in an intensive program. This is the final presentation - scenes staged\, costumed. This is a very popular event. Tickets may be purchased at Out of this World (Mendocino) and Harvest Market in Fort Bragg.
LOCATION:Preston Hall\, Mendocino Presbyterian Church
UID:e.2883.11685
SEQUENCE:3
DTSTAMP:20260422T093919Z
URL:http://mendocinocoast.smartcms.site/events/details/operatic-scenes-11685
END:VEVENT

END:VCALENDAR
