BEGIN:VCALENDAR
VERSION:2.0
PRODID:-//ChamberMaster//Event Calendar 2.0//EN
METHOD:PUBLISH
X-PUBLISHED-TTL:P3D
REFRESH-INTERVAL:P3D
CALSCALE:GREGORIAN
BEGIN:VEVENT
DTSTART:20160819T180000Z
DTEND:20160820T000000Z
X-MICROSOFT-CDO-ALLDAYEVENT:FALSE
SUMMARY:Open Studios
DESCRIPTION:More than a dozen artists will open their studios September 3 and 4 for the holiday weekend. From 11AM to 5PM visitors are welcome to explore some of the many art forms created locally - painting\, drawing\, sculpture\, ceramics\, fiber arts\, fine jewelry and more!\n\nMaps and lists of locations will be available at each site. Several studios are north of Fort Bragg\, more in the heart of Fort Bragg\, and some in Mendocino.\n\nArtist include:\n\nEleanor Harvey and Kathy Carl\, 24729 Sashandre Ln\, Fort Bragg\n\nClaire Fortier\, 23536 Greentree Dr\, Fort Bragg\n\nJohn & Judy Hewitt\, 32520 Lassen Dr\, Fort Bragg\n\nBarbara Bybee\, 735 1/2 Perkins St\, Fort Bragg\n\nSabine Brunner at Littlecup Ceramics\, 325 A East Redwood Ave\, Fort Bragg\n\nJacquelyn & Christopher Cisper\, 250 N Harrison St\, Fort Bragg\n\nSara Liner at Sea Change Workshop 366 N Main st\, Fort Bragg\n\nSandy Oppenheimer & John Fisher\, 19600 Benson Ln\, Fort Bragg\n\nAnni Kuhn & Ron Ortman 30581 Simpson Lane\, Fort Bragg\n\nSuzi Marquess Long & Jim Stallings at The Watertower Gallery\, Albion & Kasten Sts\, Mendocino\n\nThere will be a show of one piece from each artist for the entire month of September with a First Friday Art Opening (5-8pm Sept 2nd) at Interior\, 224 E Redwood\, Fort Bragg. Also in Mendocino during the weekend Suzi Long will host a show of all participating artists' works alongside here own at the Watertower Gallery. For more information contact Jacquelyn Cisper at paintblues@gmail.com
X-ALT-DESC;FMTTYPE=text/html:<p><span>More than a dozen artists will open their studios September 3 and 4 for the holiday weekend. From 11AM to 5PM visitors are welcome to explore some of the many art forms created locally - painting\, drawing\, sculpture\, ceramics\, fiber arts\, fine jewelry and more!</span><br /><br /><span>Maps and lists of locations will be available at each site. Several studios are north of Fort Bragg\, more in the heart of Fort Bragg\, and some in Mendocino.</span><br /><br /><span>Artist include:</span><br /><br /><span>Eleanor Harvey and Kathy Carl\, 24729 Sashandre Ln\, Fort Bragg</span><br /><br /><span>Claire Fortier\, 23536 Greentree Dr\, Fort Bragg</span><br /><br /><span>John &amp\; Judy Hewitt\, 32520 Lassen Dr\, Fort Bragg</span><br /><br /><span>Barbara Bybee\, 735 1/2 Perkins St\, Fort Bragg</span><br /><br /><span>Sabine Brunner at Littlecup Ceramics\, 325 A East Redwood Ave\, Fort Bragg</span><br /><br /><span>Jacquelyn &amp\; Christopher Cisper\, 250 N Harrison St\, Fort Bragg</span><br /><br /><span>Sara Liner at Sea Change Workshop 366 N Main st\, Fort Bragg</span><br /><br /><span>Sandy Oppenheimer &amp\; John Fisher\, 19600 Benson Ln\, Fort Bragg</span><br /><br /><span>Anni Kuhn &amp\; Ron Ortman 30581 Simpson Lane\, Fort Bragg</span><br /><span></span><br /><span>Suzi Marquess Long &amp\; Jim Stallings at The Watertower Gallery\, Albion &amp\; Kasten Sts\, Mendocino</span><br /><br /><span>There will be a show of one piece from each artist for the entire month of September with a First Friday Art Opening (5-8pm Sept 2nd) at Interior\, 224 E Redwood\, Fort Bragg. Also in Mendocino during the weekend Suzi Long will host a show of all participating artists' works alongside here own at the Watertower Gallery. For more information contact Jacquelyn Cisper at </span><a href="mailto:paintblues@gmail.com">paintblues@gmail.com</a></p>
LOCATION:See Description Fort Bragg/Mendocino
UID:e.2883.1000
SEQUENCE:3
DTSTAMP:20260424T192146Z
URL:http://mendocinocoast.smartcms.site/events/details/open-studios-08-19-2016-1000
END:VEVENT

END:VCALENDAR
